BEGIN:VCALENDAR
VERSION:2.0
PRODID:-//NOVAworks - ECPv6.15.20//NONSGML v1.0//EN
CALSCALE:GREGORIAN
METHOD:PUBLISH
X-WR-CALNAME:NOVAworks
X-ORIGINAL-URL:https://novaworks.org
X-WR-CALDESC:Events for NOVAworks
REFRESH-INTERVAL;VALUE=DURATION:PT1H
X-Robots-Tag:noindex
X-PUBLISHED-TTL:PT1H
BEGIN:VTIMEZONE
TZID:America/Los_Angeles
BEGIN:DAYLIGHT
TZOFFSETFROM:-0800
TZOFFSETTO:-0700
TZNAME:PDT
DTSTART:20250309T100000
END:DAYLIGHT
BEGIN:STANDARD
TZOFFSETFROM:-0700
TZOFFSETTO:-0800
TZNAME:PST
DTSTART:20251102T090000
END:STANDARD
BEGIN:DAYLIGHT
TZOFFSETFROM:-0800
TZOFFSETTO:-0700
TZNAME:PDT
DTSTART:20260308T100000
END:DAYLIGHT
BEGIN:STANDARD
TZOFFSETFROM:-0700
TZOFFSETTO:-0800
TZNAME:PST
DTSTART:20261101T090000
END:STANDARD
BEGIN:DAYLIGHT
TZOFFSETFROM:-0800
TZOFFSETTO:-0700
TZNAME:PDT
DTSTART:20270314T100000
END:DAYLIGHT
BEGIN:STANDARD
TZOFFSETFROM:-0700
TZOFFSETTO:-0800
TZNAME:PST
DTSTART:20271107T090000
END:STANDARD
END:VTIMEZONE
BEGIN:VEVENT
DTSTART;TZID=America/Los_Angeles:20260508T133000
DTEND;TZID=America/Los_Angeles:20260508T143000
DTSTAMP:20260422T152822
CREATED:20260420T070013Z
LAST-MODIFIED:20260416T182054Z
UID:5546-1778247000-1778250600@novaworks.org
SUMMARY:Ask the Career Advisor (Zoom)
DESCRIPTION:Do you have a quick question for a career advisor? \nDo you have a time-sensitive issue to discuss? \nSign up for this small group (it won’t be private) to get some expert advice from a career advisor. You are welcome to leave early if your question gets answered or stay to learn from the questions of others. \nRegistration for this session will open Friday\, May 1 by 1 p.m. \n 
URL:https://novaworks.org/event/ask-the-career-advisor-zoom-20260508/
CATEGORIES:Career Navigation,Virtual (Live)
ATTACH;FMTTYPE=image/webp:https://novaworks.org/wp-content/uploads/Ask-the-Career-Advisor.webp
END:VEVENT
BEGIN:VEVENT
DTSTART;TZID=America/Los_Angeles:20260511T133000
DTEND;TZID=America/Los_Angeles:20260511T141500
DTSTAMP:20260422T152822
CREATED:20260420T070003Z
LAST-MODIFIED:20260416T182248Z
UID:5548-1778506200-1778508900@novaworks.org
SUMMARY:Training Scholarship Process (Zoom)
DESCRIPTION:Come and learn about NOVAworks Training Scholarship Process\, the requirements\, and if it’s right for you. \nYou must be fully enrolled at NOVAworks before taking this workshop. \nRegistration for this workshop will open Friday\, May 8 by 1 p.m.
URL:https://novaworks.org/event/training-scholarship-process-zoom-20260511/
CATEGORIES:Career Navigation,Virtual (Live)
ATTACH;FMTTYPE=image/webp:https://novaworks.org/wp-content/uploads/Training-Scholarship-Process.webp
END:VEVENT
BEGIN:VEVENT
DTSTART;TZID=America/Los_Angeles:20260511T150000
DTEND;TZID=America/Los_Angeles:20260511T163000
DTSTAMP:20260422T152822
CREATED:20260420T070023Z
LAST-MODIFIED:20260416T182403Z
UID:5550-1778511600-1778517000@novaworks.org
SUMMARY:LinkedIn: Developing Your Profile (Zoom)
DESCRIPTION:Learn the basics of LinkedIn\, including how to set up an effective profile and manage your account settings. \nRegistration for this workshop will open Friday\, May 8 by 1 p.m. \n 
URL:https://novaworks.org/event/linkedin-developing-your-profile-zoom-20260511/
CATEGORIES:Resume,Virtual (Live)
ATTACH;FMTTYPE=image/webp:https://novaworks.org/wp-content/uploads/LI_Developoing-Your-Profile.webp
END:VEVENT
BEGIN:VEVENT
DTSTART;TZID=America/Los_Angeles:20260512T090000
DTEND;TZID=America/Los_Angeles:20260512T100000
DTSTAMP:20260422T152822
CREATED:20260420T070050Z
LAST-MODIFIED:20260416T182524Z
UID:5552-1778576400-1778580000@novaworks.org
SUMMARY:Career Exploration (Zoom)
DESCRIPTION:Career exploration is an opportunity for you to examine your options and to make informed career decisions based upon current local labor market information and employer needs. \nRegistration for this workshop will open Friday\, May 8 by 1 p.m.
URL:https://novaworks.org/event/career-exploration-zoom-20260512/
CATEGORIES:Focus,Virtual (Live)
ATTACH;FMTTYPE=image/webp:https://novaworks.org/wp-content/uploads/Career-Exploration.webp
END:VEVENT
BEGIN:VEVENT
DTSTART;TZID=America/Los_Angeles:20260512T103000
DTEND;TZID=America/Los_Angeles:20260512T114500
DTSTAMP:20260422T152822
CREATED:20260420T070043Z
LAST-MODIFIED:20260416T182619Z
UID:5554-1778581800-1778586300@novaworks.org
SUMMARY:How to Customize a Resume (Zoom)
DESCRIPTION:A generic resume rarely generates any interest. Learn how to customize a resume & cover letter to catch the attention of the employer and get the phone to ring. We’ll also discuss how to use AI tools\, as an assistant\, to help you customize. \nRegistration for this workshop will open Friday\, May 8 by 1 p.m.
URL:https://novaworks.org/event/how-to-customize-a-resume-zoom-20260512/
CATEGORIES:Resume,Virtual (Live)
ATTACH;FMTTYPE=image/webp:https://novaworks.org/wp-content/uploads/How-to-Customize-a-Resume.webp
END:VEVENT
BEGIN:VEVENT
DTSTART;TZID=America/Los_Angeles:20260512T133000
DTEND;TZID=America/Los_Angeles:20260512T150000
DTSTAMP:20260422T152822
CREATED:20260420T070050Z
LAST-MODIFIED:20260416T182801Z
UID:5556-1778592600-1778598000@novaworks.org
SUMMARY:Ace the Interview (In Person - Sunnyvale)
DESCRIPTION:Come learn how to ace any interview by being prepared to answer the three most common types of interview questions – “tell me about yourself\,” “tell me about an accomplishment/example\,” and “tell me about a weakness/mistake.” We provide templates for answering these questions in a strong and compelling manner so you can show your value to a company. \nRegistration for this in-person workshop will open Friday\, May 8 by 1 p.m.
URL:https://novaworks.org/event/ace-the-interview-in-person-20260512/
CATEGORIES:In-Person,Interview
ATTACH;FMTTYPE=image/webp:https://novaworks.org/wp-content/uploads/Ace-the-Interview-1.webp
END:VEVENT
BEGIN:VEVENT
DTSTART;TZID=America/Los_Angeles:20260513T133000
DTEND;TZID=America/Los_Angeles:20260513T150000
DTSTAMP:20260422T152822
CREATED:20260420T070023Z
LAST-MODIFIED:20260416T182921Z
UID:5558-1778679000-1778684400@novaworks.org
SUMMARY:Success Teams (In Person - Sunnyvale)
DESCRIPTION:Success teams provide job seekers with support\, accountability\, and connections. In this session\, you will learn to run effective meetings and connect with other job seekers in order to develop your own effective success team. \nRegistration for this in-person workshop will open Friday\, May 8 by 1 p.m.
URL:https://novaworks.org/event/success-teams-in-person-20260513/
CATEGORIES:Connections,In-Person
ATTACH;FMTTYPE=image/webp:https://novaworks.org/wp-content/uploads/Success-Teams.webp
END:VEVENT
BEGIN:VEVENT
DTSTART;TZID=America/Los_Angeles:20260514T100000
DTEND;TZID=America/Los_Angeles:20260514T120000
DTSTAMP:20260422T152822
CREATED:20260420T070046Z
LAST-MODIFIED:20260416T184832Z
UID:5560-1778752800-1778760000@novaworks.org
SUMMARY:Connections Meeting (Zoom)
DESCRIPTION:Join NOVAworks members and staff at these weekly sessions to network\, share successes\, ask for leads\, practice job-search skills\, and hear from knowledgeable guest speakers. \nRegistration for this session will open Friday\, May 8 by 1 p.m.
URL:https://novaworks.org/event/connections-meeting-zoom-20260514/
CATEGORIES:Connections,Virtual (Live)
ATTACH;FMTTYPE=image/webp:https://novaworks.org/wp-content/uploads/Connections-No-Topic.webp
END:VEVENT
BEGIN:VEVENT
DTSTART;TZID=America/Los_Angeles:20260514T133000
DTEND;TZID=America/Los_Angeles:20260514T153000
DTSTAMP:20260422T152822
CREATED:20260420T070041Z
LAST-MODIFIED:20260416T183118Z
UID:5562-1778765400-1778772600@novaworks.org
SUMMARY:Who Am I? (Zoom)
DESCRIPTION:This two-day workshop is a starting point for those interested in conducting career assessment. Participants will take assessments and participate in activities to define their skills\, interests\, and values\, and learn how to apply this information in all stages of career development. You need only register once for this two-day series\, but you must be able to attend the full 4 hours (2 hours each day). \nRegistration for this workshop will open Friday\, May 8 by 1 p.m. \n 
URL:https://novaworks.org/event/who-am-i-zoom-20260514/
CATEGORIES:Focus,Virtual (Live)
ATTACH;FMTTYPE=image/webp:https://novaworks.org/wp-content/uploads/Who-Am-I.webp
END:VEVENT
BEGIN:VEVENT
DTSTART;TZID=America/Los_Angeles:20260515T090000
DTEND;TZID=America/Los_Angeles:20260515T100000
DTSTAMP:20260422T152822
CREATED:20260420T070031Z
LAST-MODIFIED:20260416T183505Z
UID:5566-1778835600-1778839200@novaworks.org
SUMMARY:Ask the Career Advisor (Zoom)
DESCRIPTION:Do you have a quick question for a career advisor? \nDo you have a time-sensitive issue to discuss? \nSign up for this small group (it won’t be private) to get some expert advice from a career advisor. You are welcome to leave early if your question gets answered or stay to learn from the questions of others. \nRegistration for this session will open Friday\, May 8 by 1 p.m. \n 
URL:https://novaworks.org/event/ask-the-career-advisor-zoom-20260515/
CATEGORIES:Career Navigation,Virtual (Live)
ATTACH;FMTTYPE=image/webp:https://novaworks.org/wp-content/uploads/Ask-the-Career-Advisor.webp
END:VEVENT
BEGIN:VEVENT
DTSTART;TZID=America/Los_Angeles:20260515T100000
DTEND;TZID=America/Los_Angeles:20260515T120000
DTSTAMP:20260422T152822
CREATED:20260420T070029Z
LAST-MODIFIED:20260416T183559Z
UID:5568-1778839200-1778846400@novaworks.org
SUMMARY:Managing Change (Zoom)
DESCRIPTION:This interactive workshop will help you move through the stress and uncertainty created by job loss. Learn how to work through your emotions\, launch an effective job search\, and explore what’s next for you. \nRegistration for this workshop will open Friday\, May 8 by 1 p.m.
URL:https://novaworks.org/event/managing-change-zoom-20260515/
CATEGORIES:Focus,Virtual (Live)
ATTACH;FMTTYPE=image/webp:https://novaworks.org/wp-content/uploads/Managing-Change.webp
END:VEVENT
BEGIN:VEVENT
DTSTART;TZID=America/Los_Angeles:20260515T133000
DTEND;TZID=America/Los_Angeles:20260515T153000
DTSTAMP:20260422T152822
CREATED:20260420T070025Z
LAST-MODIFIED:20260416T183221Z
UID:5564-1778851800-1778859000@novaworks.org
SUMMARY:Who Am I? (Zoom)
DESCRIPTION:This two-day workshop is a starting point for those interested in conducting career assessment. Participants will take assessments and participate in activities to define their skills\, interests\, and values\, and learn how to apply this information in all stages of career development. You need only register once for this two-day series\, but you must be able to attend the full 4 hours (2 hours each day). \nRefer to session 1 on May 14th for registration information.
URL:https://novaworks.org/event/who-am-i-zoom-20260515/
CATEGORIES:Focus,Virtual (Live)
ATTACH;FMTTYPE=image/webp:https://novaworks.org/wp-content/uploads/Who-Am-I.webp
END:VEVENT
BEGIN:VEVENT
DTSTART;TZID=America/Los_Angeles:20260518T103000
DTEND;TZID=America/Los_Angeles:20260518T120000
DTSTAMP:20260422T152822
CREATED:20260420T070042Z
LAST-MODIFIED:20260416T183818Z
UID:5570-1779100200-1779105600@novaworks.org
SUMMARY:LinkedIn: Power Your Job Search & Network (Zoom)
DESCRIPTION:Discover how to leverage LinkedIn to expand your professional network\, showcase your expertise\, and unlock job opportunities using advanced search tools to connect with people\, companies\, and industry groups. \nRegistration for this workshop will open Friday\, May 15 by 1 p.m.
URL:https://novaworks.org/event/linkedin-power-your-job-search-network-zoom-20260518/
CATEGORIES:Job Search,Virtual (Live)
ATTACH;FMTTYPE=image/webp:https://novaworks.org/wp-content/uploads/LI-Power-Your-Job-Search-Network.webp
END:VEVENT
BEGIN:VEVENT
DTSTART;TZID=America/Los_Angeles:20260518T150000
DTEND;TZID=America/Los_Angeles:20260518T163000
DTSTAMP:20260422T152822
CREATED:20260420T070031Z
LAST-MODIFIED:20260416T183907Z
UID:5572-1779116400-1779121800@novaworks.org
SUMMARY:Coding Whiteboarding (Zoom)
DESCRIPTION:Whiteboard tests are an integral part of technical interviews. This workshop provides a place to practice coding problems and receive feedback from your peers. \nRegistration for this workshop will open Friday\, May 15 by 1 p.m.
URL:https://novaworks.org/event/coding-whiteboarding-zoom-20260518/
CATEGORIES:Interview,Virtual (Live)
ATTACH;FMTTYPE=image/webp:https://novaworks.org/wp-content/uploads/Coding-Whiteboard-1.webp
END:VEVENT
BEGIN:VEVENT
DTSTART;TZID=America/Los_Angeles:20260519T100000
DTEND;TZID=America/Los_Angeles:20260519T120000
DTSTAMP:20260422T152822
CREATED:20260420T070055Z
LAST-MODIFIED:20260416T184240Z
UID:5574-1779184800-1779192000@novaworks.org
SUMMARY:Communication Essentials (Zoom)
DESCRIPTION:Communication Essentials features practical techniques\, interactive exercises\, and immediately useful tools in the areas of communication\, facilitation\, and collaboration. This workshop series will improve your confidence and increase your effectiveness in your next position. You need only register once for this two-day series\, but you must be able to attend the full 4 hours (2 hours per day). \nRegistration for this workshop will open Friday\, May 15 by 1 p.m.
URL:https://novaworks.org/event/communication-essential-zoom-20260519/
CATEGORIES:Career Navigation,Virtual (Live)
ATTACH;FMTTYPE=image/webp:https://novaworks.org/wp-content/uploads/Communication-Essentials-1.webp
END:VEVENT
BEGIN:VEVENT
DTSTART;TZID=America/Los_Angeles:20260519T133000
DTEND;TZID=America/Los_Angeles:20260519T150000
DTSTAMP:20260422T152822
CREATED:20260420T070002Z
LAST-MODIFIED:20260416T184450Z
UID:5578-1779197400-1779202800@novaworks.org
SUMMARY:Informational Meetings (In Person - Sunnyvale)
DESCRIPTION:Build your confidence requesting and conducting informational meetings with people who have the advice\, information\, and referrals you need. \nRegistration for this in-person workshop will open Friday\, May 15 by 1 p.m.
URL:https://novaworks.org/event/informational-meetings-in-person-20260519/
CATEGORIES:In-Person,Job Search
ATTACH;FMTTYPE=image/webp:https://novaworks.org/wp-content/uploads/Information-Meetings.webp
END:VEVENT
BEGIN:VEVENT
DTSTART;TZID=America/Los_Angeles:20260520T090000
DTEND;TZID=America/Los_Angeles:20260520T100000
DTSTAMP:20260422T152822
CREATED:20260420T070021Z
LAST-MODIFIED:20260416T184548Z
UID:5580-1779267600-1779271200@novaworks.org
SUMMARY:Ask the Career Advisor (Zoom)
DESCRIPTION:Do you have a quick question for a career advisor? \nDo you have a time-sensitive issue to discuss? \nSign up for this small group (it won’t be private) to get some expert advice from a career advisor. You are welcome to leave early if your question gets answered or stay to learn from the questions of others. \nRegistration for this session will open Friday\, May 15 by 1 p.m. \n 
URL:https://novaworks.org/event/ask-the-career-advisor-zoom-20260520/
CATEGORIES:Career Navigation,Virtual (Live)
ATTACH;FMTTYPE=image/webp:https://novaworks.org/wp-content/uploads/Ask-the-Career-Advisor.webp
END:VEVENT
BEGIN:VEVENT
DTSTART;TZID=America/Los_Angeles:20260520T100000
DTEND;TZID=America/Los_Angeles:20260520T120000
DTSTAMP:20260422T152822
CREATED:20260420T070050Z
LAST-MODIFIED:20260416T184343Z
UID:5576-1779271200-1779278400@novaworks.org
SUMMARY:Communication Essentials (Zoom)
DESCRIPTION:Communication Essentials features practical techniques\, interactive exercises\, and immediately useful tools in the areas of communication\, facilitation\, and collaboration. This workshop series will improve your confidence and increase your effectiveness in your next position. You need only register once for this two-day series\, but you must be able to attend the full 4 hours (2 hours per day). \nRefer to session 1 on May 19th for registration information.
URL:https://novaworks.org/event/communication-essentials-zoom-20260520/
CATEGORIES:Career Navigation,Virtual (Live)
ATTACH;FMTTYPE=image/webp:https://novaworks.org/wp-content/uploads/Communication-Essentials-1.webp
END:VEVENT
BEGIN:VEVENT
DTSTART;TZID=America/Los_Angeles:20260520T133000
DTEND;TZID=America/Los_Angeles:20260520T150000
DTSTAMP:20260422T152822
CREATED:20260420T070007Z
LAST-MODIFIED:20260416T184719Z
UID:5582-1779283800-1779289200@novaworks.org
SUMMARY:Overcoming Employment Gaps (In Person - Sunnyvale)
DESCRIPTION:Employment gaps do not need to be a barrier to employment. In this workshop\, we’ll discuss how to address gaps in job search and during interviews. The focus is on proactively demonstrating your value and capabilities. \nRegistration for this in-person workshop will open Friday\, May 15 by 1 p.m.
URL:https://novaworks.org/event/overcoming-employment-gaps-in-person-20260520/
CATEGORIES:In-Person,Job Search
ATTACH;FMTTYPE=image/webp:https://novaworks.org/wp-content/uploads/Overcoming-Employment-Gaps-1.webp
END:VEVENT
BEGIN:VEVENT
DTSTART;TZID=America/Los_Angeles:20260521T100000
DTEND;TZID=America/Los_Angeles:20260521T120000
DTSTAMP:20260422T152822
CREATED:20260420T070055Z
LAST-MODIFIED:20260416T184911Z
UID:5585-1779357600-1779364800@novaworks.org
SUMMARY:Connections Meeting (Zoom)
DESCRIPTION:Join NOVAworks members and staff at these weekly sessions to network\, share successes\, ask for leads\, practice job-search skills\, and hear from knowledgeable guest speakers. \nRegistration for this session will open Friday\, May 15 by 1 p.m.
URL:https://novaworks.org/event/connections-meeting-zoom-20260521/
CATEGORIES:Connections,Virtual (Live)
ATTACH;FMTTYPE=image/webp:https://novaworks.org/wp-content/uploads/Connections-No-Topic.webp
END:VEVENT
BEGIN:VEVENT
DTSTART;TZID=America/Los_Angeles:20260521T133000
DTEND;TZID=America/Los_Angeles:20260521T144500
DTSTAMP:20260422T152822
CREATED:20260420T070030Z
LAST-MODIFIED:20260416T185036Z
UID:5587-1779370200-1779374700@novaworks.org
SUMMARY:Create a Resume that Gets Results (Zoom)
DESCRIPTION:Learn the key information to include on your resume\, how to lay out the information to tell your story\, and the right resume format based on your situation. \nRegistration for this workshop will open Friday\, May 15 by 1 p.m.
URL:https://novaworks.org/event/create-a-resume-that-gets-results-zoom-20260521/
CATEGORIES:Resume,Virtual (Live)
ATTACH;FMTTYPE=image/webp:https://novaworks.org/wp-content/uploads/Create-a-Resume-that-Gets-Results.webp
END:VEVENT
BEGIN:VEVENT
DTSTART;TZID=America/Los_Angeles:20260522T090000
DTEND;TZID=America/Los_Angeles:20260522T103000
DTSTAMP:20260422T152822
CREATED:20260420T070007Z
LAST-MODIFIED:20260416T185152Z
UID:5590-1779440400-1779445800@novaworks.org
SUMMARY:Job Search Tips for the Mature Worker (Zoom)
DESCRIPTION:Mature job seekers frequently have concerns that their age or years of experience may create obstacles in their job search. Learn how to age-neutralize your resume\, identify age-friendly employers\, and answer tough interview questions. \nRegistration for this workshop will open Friday\, May 15 by 1 p.m. \n 
URL:https://novaworks.org/event/job-search-tips-for-the-mature-worker-zoom-20260522/
CATEGORIES:Job Search,Virtual (Live)
ATTACH;FMTTYPE=image/webp:https://novaworks.org/wp-content/uploads/Job-Search-Tips-for-the-Mature-Worker-1.webp
END:VEVENT
BEGIN:VEVENT
DTSTART;TZID=America/Los_Angeles:20260522T133000
DTEND;TZID=America/Los_Angeles:20260522T153000
DTSTAMP:20260422T152822
CREATED:20260420T070042Z
LAST-MODIFIED:20260416T185814Z
UID:5593-1779456600-1779463800@novaworks.org
SUMMARY:Behavior Based Interviewing (Zoom)
DESCRIPTION:Prepare for tough questions asking how you handled specific situations in your past\, including both successes and failures. Create your own job profile and practice responding to related questions. \nRegistration for this workshop will open Friday\, May 15 by 1 p.m.
URL:https://novaworks.org/event/behavior-based-interviewing-zoom-20260522/
CATEGORIES:Interview,Virtual (Live)
ATTACH;FMTTYPE=image/webp:https://novaworks.org/wp-content/uploads/Behavior-Based-Interviewing.webp
END:VEVENT
BEGIN:VEVENT
DTSTART;TZID=America/Los_Angeles:20260525T080000
DTEND;TZID=America/Los_Angeles:20260525T170000
DTSTAMP:20260422T152822
CREATED:20260420T070043Z
LAST-MODIFIED:20260416T203716Z
UID:5599-1779696000-1779728400@novaworks.org
SUMMARY:Holiday: NOVAworks Closed
DESCRIPTION:
URL:https://novaworks.org/event/holiday-novaworks-closed/
END:VEVENT
BEGIN:VEVENT
DTSTART;TZID=America/Los_Angeles:20260526T133000
DTEND;TZID=America/Los_Angeles:20260526T141500
DTSTAMP:20260422T152822
CREATED:20260420T070047Z
LAST-MODIFIED:20260416T203844Z
UID:5601-1779802200-1779804900@novaworks.org
SUMMARY:Training Scholarship Process (Zoom)
DESCRIPTION:Come and learn about NOVAworks Training Scholarship Process\, the requirements\, and if it’s right for you. \nYou must be fully enrolled at NOVAworks before taking this workshop. \nRegistration for this workshop will open Friday\, May 22 by 1 p.m.
URL:https://novaworks.org/event/training-scholarship-process-zoom-20260526/
CATEGORIES:Career Navigation,Virtual (Live)
ATTACH;FMTTYPE=image/webp:https://novaworks.org/wp-content/uploads/Training-Scholarship-Process.webp
END:VEVENT
BEGIN:VEVENT
DTSTART;TZID=America/Los_Angeles:20260526T150000
DTEND;TZID=America/Los_Angeles:20260526T161500
DTSTAMP:20260422T152822
CREATED:20260420T070017Z
LAST-MODIFIED:20260416T203957Z
UID:5603-1779807600-1779812100@novaworks.org
SUMMARY:How to Customize a Resume (Zoom)
DESCRIPTION:A generic resume rarely generates any interest. Learn how to customize a resume & cover letter to catch the attention of the employer and get the phone to ring. We’ll also discuss how to use AI tools\, as an assistant\, to help you customize. \nRegistration for this workshop will open Friday\, May 22 by 1 p.m.
URL:https://novaworks.org/event/how-to-customize-a-resume-zoom-20260526/
CATEGORIES:Resume,Virtual (Live)
ATTACH;FMTTYPE=image/webp:https://novaworks.org/wp-content/uploads/How-to-Customize-a-Resume.webp
END:VEVENT
BEGIN:VEVENT
DTSTART;TZID=America/Los_Angeles:20260527T090000
DTEND;TZID=America/Los_Angeles:20260527T100000
DTSTAMP:20260422T152822
CREATED:20260420T070025Z
LAST-MODIFIED:20260416T204057Z
UID:5605-1779872400-1779876000@novaworks.org
SUMMARY:Career Exploration (Zoom)
DESCRIPTION:Career exploration is an opportunity for you to examine your options and to make informed career decisions based upon current local labor market information and employer needs. \nRegistration for this workshop will open Friday\, May 22 by 1 p.m.
URL:https://novaworks.org/event/career-exploration-zoom-20260527/
CATEGORIES:Focus,Virtual (Live)
ATTACH;FMTTYPE=image/webp:https://novaworks.org/wp-content/uploads/Career-Exploration.webp
END:VEVENT
BEGIN:VEVENT
DTSTART;TZID=America/Los_Angeles:20260527T110000
DTEND;TZID=America/Los_Angeles:20260527T120000
DTSTAMP:20260422T152822
CREATED:20260420T070043Z
LAST-MODIFIED:20260416T204256Z
UID:5607-1779879600-1779883200@novaworks.org
SUMMARY:Ask the Career Advisor (Zoom)
DESCRIPTION:Do you have a quick question for a career advisor? \nDo you have a time-sensitive issue to discuss? \nSign up for this small group (it won’t be private) to get some expert advice from a career advisor. You are welcome to leave early if your question gets answered or stay to learn from the questions of others. \nRegistration for this session will open Friday\, May 22 by 1 p.m. \n 
URL:https://novaworks.org/event/ask-the-career-advisor-zoom-20260527/
CATEGORIES:Career Navigation,Virtual (Live)
ATTACH;FMTTYPE=image/webp:https://novaworks.org/wp-content/uploads/Ask-the-Career-Advisor.webp
END:VEVENT
BEGIN:VEVENT
DTSTART;TZID=America/Los_Angeles:20260527T133000
DTEND;TZID=America/Los_Angeles:20260527T150000
DTSTAMP:20260422T152822
CREATED:20260420T070002Z
LAST-MODIFIED:20260416T204603Z
UID:5609-1779888600-1779894000@novaworks.org
SUMMARY:Identifying Target Companies (In Person - Sunnyvale)
DESCRIPTION:Learn the benefits of targeting companies. We will show you how to research companies and provide strategies for utilizing this information in your job search. \nRegistration for this in-person workshop will open Friday\, May 22 by 1 p.m.
URL:https://novaworks.org/event/identifying-target-companies-in-person-20260527/
CATEGORIES:In-Person,Job Search
ATTACH;FMTTYPE=image/webp:https://novaworks.org/wp-content/uploads/Identifying-Target-Companies-1.webp
END:VEVENT
BEGIN:VEVENT
DTSTART;TZID=America/Los_Angeles:20260528T100000
DTEND;TZID=America/Los_Angeles:20260528T120000
DTSTAMP:20260422T152822
CREATED:20260420T070050Z
LAST-MODIFIED:20260416T204720Z
UID:5611-1779962400-1779969600@novaworks.org
SUMMARY:Connections Meeting (Zoom)
DESCRIPTION:Join NOVAworks members and staff at these weekly sessions to network\, share successes\, ask for leads\, practice job-search skills\, and hear from knowledgeable guest speakers. \nRegistration for this session will open Friday\, May 22 by 1 p.m.
URL:https://novaworks.org/event/connections-meeting-zoom-20260528/
CATEGORIES:Connections,Virtual (Live)
ATTACH;FMTTYPE=image/webp:https://novaworks.org/wp-content/uploads/Connections-No-Topic.webp
END:VEVENT
END:VCALENDAR