BEGIN:VCALENDAR
VERSION:2.0
PRODID:-//NOVAworks - ECPv6.15.20//NONSGML v1.0//EN
CALSCALE:GREGORIAN
METHOD:PUBLISH
X-ORIGINAL-URL:https://novaworks.org
X-WR-CALDESC:Events for NOVAworks
REFRESH-INTERVAL;VALUE=DURATION:PT1H
X-Robots-Tag:noindex
X-PUBLISHED-TTL:PT1H
BEGIN:VTIMEZONE
TZID:America/Los_Angeles
BEGIN:DAYLIGHT
TZOFFSETFROM:-0800
TZOFFSETTO:-0700
TZNAME:PDT
DTSTART:20250309T100000
END:DAYLIGHT
BEGIN:STANDARD
TZOFFSETFROM:-0700
TZOFFSETTO:-0800
TZNAME:PST
DTSTART:20251102T090000
END:STANDARD
BEGIN:DAYLIGHT
TZOFFSETFROM:-0800
TZOFFSETTO:-0700
TZNAME:PDT
DTSTART:20260308T100000
END:DAYLIGHT
BEGIN:STANDARD
TZOFFSETFROM:-0700
TZOFFSETTO:-0800
TZNAME:PST
DTSTART:20261101T090000
END:STANDARD
BEGIN:DAYLIGHT
TZOFFSETFROM:-0800
TZOFFSETTO:-0700
TZNAME:PDT
DTSTART:20270314T100000
END:DAYLIGHT
BEGIN:STANDARD
TZOFFSETFROM:-0700
TZOFFSETTO:-0800
TZNAME:PST
DTSTART:20271107T090000
END:STANDARD
END:VTIMEZONE
BEGIN:VEVENT
DTSTART;TZID=America/Los_Angeles:20260416T100000
DTEND;TZID=America/Los_Angeles:20260416T120000
DTSTAMP:20260422T063019
CREATED:20260408T151516Z
LAST-MODIFIED:20260416T164610Z
UID:5191-1776333600-1776340800@novaworks.org
SUMMARY:Connections Meeting (Zoom)
DESCRIPTION:Join NOVAworks members and staff at these weekly sessions to network\, share successes\, ask for leads\, practice job-search skills\, and hear from knowledgeable guest speakers. \nRegister at least 15 minutes before the start time of the session. \nRegistration for this session is now closed. \nTopic: The Career Architect’s Job Search \nPresented by: Tiffany Flaming
URL:https://novaworks.org/event/connections-meeting-zoom-20260416/
CATEGORIES:Connections,Virtual (Live)
ATTACH;FMTTYPE=image/png:https://novaworks.org/wp-content/uploads/Connections-Meeting-20260416.png
END:VEVENT
BEGIN:VEVENT
DTSTART;TZID=America/Los_Angeles:20260416T133000
DTEND;TZID=America/Los_Angeles:20260416T150000
DTSTAMP:20260422T063019
CREATED:20260408T151557Z
LAST-MODIFIED:20260416T201613Z
UID:5196-1776346200-1776351600@novaworks.org
SUMMARY:Success Teams (Zoom)
DESCRIPTION:Success teams provide job seekers with support\, accountability\, and connections. In this session\, you will learn to run effective meetings and connect with other job seekers in order to develop your own effective success team. \nRegister at least 15 minutes before the start time of the workshop. \nRegistration for this workshop is now closed.
URL:https://novaworks.org/event/success-teams-zoom-20260416/
CATEGORIES:Connections,Virtual (Live)
ATTACH;FMTTYPE=image/webp:https://novaworks.org/wp-content/uploads/Success-Teams.webp
END:VEVENT
END:VCALENDAR