BEGIN:VCALENDAR
VERSION:2.0
PRODID:-//NOVAworks - ECPv6.15.20//NONSGML v1.0//EN
CALSCALE:GREGORIAN
METHOD:PUBLISH
X-WR-CALNAME:NOVAworks
X-ORIGINAL-URL:https://novaworks.org
X-WR-CALDESC:Events for NOVAworks
REFRESH-INTERVAL;VALUE=DURATION:PT1H
X-Robots-Tag:noindex
X-PUBLISHED-TTL:PT1H
BEGIN:VTIMEZONE
TZID:America/Los_Angeles
BEGIN:DAYLIGHT
TZOFFSETFROM:-0800
TZOFFSETTO:-0700
TZNAME:PDT
DTSTART:20250309T100000
END:DAYLIGHT
BEGIN:STANDARD
TZOFFSETFROM:-0700
TZOFFSETTO:-0800
TZNAME:PST
DTSTART:20251102T090000
END:STANDARD
BEGIN:DAYLIGHT
TZOFFSETFROM:-0800
TZOFFSETTO:-0700
TZNAME:PDT
DTSTART:20260308T100000
END:DAYLIGHT
BEGIN:STANDARD
TZOFFSETFROM:-0700
TZOFFSETTO:-0800
TZNAME:PST
DTSTART:20261101T090000
END:STANDARD
BEGIN:DAYLIGHT
TZOFFSETFROM:-0800
TZOFFSETTO:-0700
TZNAME:PDT
DTSTART:20270314T100000
END:DAYLIGHT
BEGIN:STANDARD
TZOFFSETFROM:-0700
TZOFFSETTO:-0800
TZNAME:PST
DTSTART:20271107T090000
END:STANDARD
END:VTIMEZONE
BEGIN:VEVENT
DTSTART;TZID=America/Los_Angeles:20260413T103000
DTEND;TZID=America/Los_Angeles:20260413T120000
DTSTAMP:20260422T062746
CREATED:20260408T151030Z
LAST-MODIFIED:20260413T171508Z
UID:5175-1776076200-1776081600@novaworks.org
SUMMARY:Interview: Negotiations (Zoom)
DESCRIPTION:Learn to handle questions about salary from the phone screen through to the job offer. We will cover strategies and tools that help you to have collaborative conversations that lead to win-win scenarios. \nRegister at least 15 minutes before the start time of the workshop. \nRegistration for this workshop is now closed.
URL:https://novaworks.org/event/interview-negotiations-zoom-20260413/
CATEGORIES:Interview,Virtual (Live)
ATTACH;FMTTYPE=image/webp:https://novaworks.org/wp-content/uploads/Negotiations.webp
END:VEVENT
BEGIN:VEVENT
DTSTART;TZID=America/Los_Angeles:20260413T133000
DTEND;TZID=America/Los_Angeles:20260413T150000
DTSTAMP:20260422T062746
CREATED:20260408T151118Z
LAST-MODIFIED:20260413T201506Z
UID:5181-1776087000-1776092400@novaworks.org
SUMMARY:Ace the Interview (Zoom)
DESCRIPTION:Come learn how to ace any interview by being prepared to answer the three most common types of interview questions – “tell me about yourself\,” “tell me about an accomplishment/example\,” and “tell me about a weakness/mistake.” We provide templates for answering these questions in a strong and compelling manner so you can show your value to a company. \nRegister at least 15 minutes before the start time of the workshop. \nRegistration for this workshop is now closed. \n 
URL:https://novaworks.org/event/ace-the-interview-zoom-20260413/
CATEGORIES:Interview,Virtual (Live)
ATTACH;FMTTYPE=image/webp:https://novaworks.org/wp-content/uploads/Ace-the-Interview-1.webp
END:VEVENT
END:VCALENDAR