BEGIN:VCALENDAR
VERSION:2.0
PRODID:-//NOVAworks - ECPv6.15.20//NONSGML v1.0//EN
CALSCALE:GREGORIAN
METHOD:PUBLISH
X-ORIGINAL-URL:https://novaworks.org
X-WR-CALDESC:Events for NOVAworks
REFRESH-INTERVAL;VALUE=DURATION:PT1H
X-Robots-Tag:noindex
X-PUBLISHED-TTL:PT1H
BEGIN:VTIMEZONE
TZID:America/Los_Angeles
BEGIN:DAYLIGHT
TZOFFSETFROM:-0800
TZOFFSETTO:-0700
TZNAME:PDT
DTSTART:20250309T100000
END:DAYLIGHT
BEGIN:STANDARD
TZOFFSETFROM:-0700
TZOFFSETTO:-0800
TZNAME:PST
DTSTART:20251102T090000
END:STANDARD
BEGIN:DAYLIGHT
TZOFFSETFROM:-0800
TZOFFSETTO:-0700
TZNAME:PDT
DTSTART:20260308T100000
END:DAYLIGHT
BEGIN:STANDARD
TZOFFSETFROM:-0700
TZOFFSETTO:-0800
TZNAME:PST
DTSTART:20261101T090000
END:STANDARD
BEGIN:DAYLIGHT
TZOFFSETFROM:-0800
TZOFFSETTO:-0700
TZNAME:PDT
DTSTART:20270314T100000
END:DAYLIGHT
BEGIN:STANDARD
TZOFFSETFROM:-0700
TZOFFSETTO:-0800
TZNAME:PST
DTSTART:20271107T090000
END:STANDARD
END:VTIMEZONE
BEGIN:VEVENT
DTSTART;TZID=America/Los_Angeles:20260402T100000
DTEND;TZID=America/Los_Angeles:20260402T120000
DTSTAMP:20260422T063043
CREATED:20260408T155553Z
LAST-MODIFIED:20260408T155553Z
UID:5247-1775124000-1775131200@novaworks.org
SUMMARY:Connections Meeting (Zoom)
DESCRIPTION:Join NOVAworks members and staff at these weekly sessions to network\, share successes\, ask for leads\, practice job-search skills\, and hear from knowledgeable guest speakers. \nRegister at least 15 minutes before the start time of the session. \nRegistration for this session is now closed. \nTopic: Jobseeker Mythbusting – The Truth Behind the Scams and What to Watch Out for! \nPresented by: Stefanie Fackrell
URL:https://novaworks.org/event/connections-meeting-zoom-20260402/
CATEGORIES:Connections,Virtual (Live)
ATTACH;FMTTYPE=image/png:https://novaworks.org/wp-content/uploads/Connections-Meeting-20260402-1.png
END:VEVENT
BEGIN:VEVENT
DTSTART;TZID=America/Los_Angeles:20260402T150000
DTEND;TZID=America/Los_Angeles:20260402T163000
DTSTAMP:20260422T063043
CREATED:20260408T155642Z
LAST-MODIFIED:20260408T155642Z
UID:5250-1775142000-1775147400@novaworks.org
SUMMARY:LinkedIn: Developing Your Profile (Zoom)
DESCRIPTION:Learn the basics of LinkedIn\, including how to set up an effective profile and manage your account settings. \nRegister at least 15 minutes before the start time of the workshop. \nRegistration for this workshop is now at capacity. \n 
URL:https://novaworks.org/event/linkedin-developing-your-profile-zoom-20260402/
CATEGORIES:Resume,Virtual (Live)
ATTACH;FMTTYPE=image/webp:https://novaworks.org/wp-content/uploads/LI_Developoing-Your-Profile.webp
END:VEVENT
END:VCALENDAR