BEGIN:VCALENDAR
VERSION:2.0
PRODID:-//NOVAworks - ECPv6.15.20//NONSGML v1.0//EN
CALSCALE:GREGORIAN
METHOD:PUBLISH
X-ORIGINAL-URL:https://novaworks.org
X-WR-CALDESC:Events for NOVAworks
REFRESH-INTERVAL;VALUE=DURATION:PT1H
X-Robots-Tag:noindex
X-PUBLISHED-TTL:PT1H
BEGIN:VTIMEZONE
TZID:America/Los_Angeles
BEGIN:DAYLIGHT
TZOFFSETFROM:-0800
TZOFFSETTO:-0700
TZNAME:PDT
DTSTART:20250309T100000
END:DAYLIGHT
BEGIN:STANDARD
TZOFFSETFROM:-0700
TZOFFSETTO:-0800
TZNAME:PST
DTSTART:20251102T090000
END:STANDARD
BEGIN:DAYLIGHT
TZOFFSETFROM:-0800
TZOFFSETTO:-0700
TZNAME:PDT
DTSTART:20260308T100000
END:DAYLIGHT
BEGIN:STANDARD
TZOFFSETFROM:-0700
TZOFFSETTO:-0800
TZNAME:PST
DTSTART:20261101T090000
END:STANDARD
BEGIN:DAYLIGHT
TZOFFSETFROM:-0800
TZOFFSETTO:-0700
TZNAME:PDT
DTSTART:20270314T100000
END:DAYLIGHT
BEGIN:STANDARD
TZOFFSETFROM:-0700
TZOFFSETTO:-0800
TZNAME:PST
DTSTART:20271107T090000
END:STANDARD
END:VTIMEZONE
BEGIN:VEVENT
DTSTART;TZID=America/Los_Angeles:20260427T103000
DTEND;TZID=America/Los_Angeles:20260427T120000
DTSTAMP:20260422T070003
CREATED:20260408T150448Z
LAST-MODIFIED:20260408T154127Z
UID:5160-1777285800-1777291200@novaworks.org
SUMMARY:LinkedIn: Developing Your Profile (Zoom)
DESCRIPTION:Learn the basics of LinkedIn\, including how to set up an effective profile and manage your account settings. \nRegistration for this workshop will open Friday\, April 24 by 1 p.m. \n 
URL:https://novaworks.org/event/linkedin-developing-your-profile-zoom-20260427/
CATEGORIES:Resume,Virtual (Live)
ATTACH;FMTTYPE=image/webp:https://novaworks.org/wp-content/uploads/LI_Developoing-Your-Profile.webp
END:VEVENT
BEGIN:VEVENT
DTSTART;TZID=America/Los_Angeles:20260429T133000
DTEND;TZID=America/Los_Angeles:20260429T144500
DTSTAMP:20260422T070003
CREATED:20260408T150024Z
LAST-MODIFIED:20260408T154328Z
UID:5148-1777469400-1777473900@novaworks.org
SUMMARY:How to Customize a Resume (Zoom)
DESCRIPTION:A generic resume rarely generates any interest. Learn how to customize a resume & cover letter to catch the attention of the employer and get the phone to ring. We’ll also discuss how to use AI tools\, as an assistant\, to help you customize. \nRegistration for this workshop will open Friday\, April 24 by 1 p.m.
URL:https://novaworks.org/event/how-to-customize-a-resume-zoom-20260429/
CATEGORIES:Resume,Virtual (Live)
ATTACH;FMTTYPE=image/webp:https://novaworks.org/wp-content/uploads/How-to-Customize-a-Resume.webp
END:VEVENT
BEGIN:VEVENT
DTSTART;TZID=America/Los_Angeles:20260508T090000
DTEND;TZID=America/Los_Angeles:20260508T101500
DTSTAMP:20260422T070003
CREATED:20260420T070011Z
LAST-MODIFIED:20260416T185013Z
UID:5544-1778230800-1778235300@novaworks.org
SUMMARY:Create a Resume that Gets Results (Zoom)
DESCRIPTION:Learn the key information to include on your resume\, how to lay out the information to tell your story\, and the right resume format based on your situation. \nRegistration for this workshop will open Friday\, May 1 by 1 p.m.
URL:https://novaworks.org/event/create-a-resume-that-gets-results-zoom-20260508-2/
CATEGORIES:Resume,Virtual (Live)
ATTACH;FMTTYPE=image/webp:https://novaworks.org/wp-content/uploads/Create-a-Resume-that-Gets-Results.webp
END:VEVENT
BEGIN:VEVENT
DTSTART;TZID=America/Los_Angeles:20260511T150000
DTEND;TZID=America/Los_Angeles:20260511T163000
DTSTAMP:20260422T070003
CREATED:20260420T070023Z
LAST-MODIFIED:20260416T182403Z
UID:5550-1778511600-1778517000@novaworks.org
SUMMARY:LinkedIn: Developing Your Profile (Zoom)
DESCRIPTION:Learn the basics of LinkedIn\, including how to set up an effective profile and manage your account settings. \nRegistration for this workshop will open Friday\, May 8 by 1 p.m. \n 
URL:https://novaworks.org/event/linkedin-developing-your-profile-zoom-20260511/
CATEGORIES:Resume,Virtual (Live)
ATTACH;FMTTYPE=image/webp:https://novaworks.org/wp-content/uploads/LI_Developoing-Your-Profile.webp
END:VEVENT
BEGIN:VEVENT
DTSTART;TZID=America/Los_Angeles:20260512T103000
DTEND;TZID=America/Los_Angeles:20260512T114500
DTSTAMP:20260422T070003
CREATED:20260420T070043Z
LAST-MODIFIED:20260416T182619Z
UID:5554-1778581800-1778586300@novaworks.org
SUMMARY:How to Customize a Resume (Zoom)
DESCRIPTION:A generic resume rarely generates any interest. Learn how to customize a resume & cover letter to catch the attention of the employer and get the phone to ring. We’ll also discuss how to use AI tools\, as an assistant\, to help you customize. \nRegistration for this workshop will open Friday\, May 8 by 1 p.m.
URL:https://novaworks.org/event/how-to-customize-a-resume-zoom-20260512/
CATEGORIES:Resume,Virtual (Live)
ATTACH;FMTTYPE=image/webp:https://novaworks.org/wp-content/uploads/How-to-Customize-a-Resume.webp
END:VEVENT
BEGIN:VEVENT
DTSTART;TZID=America/Los_Angeles:20260521T133000
DTEND;TZID=America/Los_Angeles:20260521T144500
DTSTAMP:20260422T070003
CREATED:20260420T070030Z
LAST-MODIFIED:20260416T185036Z
UID:5587-1779370200-1779374700@novaworks.org
SUMMARY:Create a Resume that Gets Results (Zoom)
DESCRIPTION:Learn the key information to include on your resume\, how to lay out the information to tell your story\, and the right resume format based on your situation. \nRegistration for this workshop will open Friday\, May 15 by 1 p.m.
URL:https://novaworks.org/event/create-a-resume-that-gets-results-zoom-20260521/
CATEGORIES:Resume,Virtual (Live)
ATTACH;FMTTYPE=image/webp:https://novaworks.org/wp-content/uploads/Create-a-Resume-that-Gets-Results.webp
END:VEVENT
BEGIN:VEVENT
DTSTART;TZID=America/Los_Angeles:20260526T150000
DTEND;TZID=America/Los_Angeles:20260526T161500
DTSTAMP:20260422T070003
CREATED:20260420T070017Z
LAST-MODIFIED:20260416T203957Z
UID:5603-1779807600-1779812100@novaworks.org
SUMMARY:How to Customize a Resume (Zoom)
DESCRIPTION:A generic resume rarely generates any interest. Learn how to customize a resume & cover letter to catch the attention of the employer and get the phone to ring. We’ll also discuss how to use AI tools\, as an assistant\, to help you customize. \nRegistration for this workshop will open Friday\, May 22 by 1 p.m.
URL:https://novaworks.org/event/how-to-customize-a-resume-zoom-20260526/
CATEGORIES:Resume,Virtual (Live)
ATTACH;FMTTYPE=image/webp:https://novaworks.org/wp-content/uploads/How-to-Customize-a-Resume.webp
END:VEVENT
BEGIN:VEVENT
DTSTART;TZID=America/Los_Angeles:20260528T133000
DTEND;TZID=America/Los_Angeles:20260528T150000
DTSTAMP:20260422T070003
CREATED:20260420T070013Z
LAST-MODIFIED:20260416T204846Z
UID:5613-1779975000-1779980400@novaworks.org
SUMMARY:LinkedIn: Developing Your Profile (Zoom)
DESCRIPTION:Learn the basics of LinkedIn\, including how to set up an effective profile and manage your account settings. \nRegistration for this workshop will open Friday\, May 22 by 1 p.m. \n 
URL:https://novaworks.org/event/linkedin-developing-your-profile-zoom-20260528/
CATEGORIES:Resume,Virtual (Live)
ATTACH;FMTTYPE=image/webp:https://novaworks.org/wp-content/uploads/LI_Developoing-Your-Profile.webp
END:VEVENT
END:VCALENDAR