BEGIN:VCALENDAR
VERSION:2.0
PRODID:-//NOVAworks - ECPv6.15.20//NONSGML v1.0//EN
CALSCALE:GREGORIAN
METHOD:PUBLISH
X-WR-CALNAME:NOVAworks
X-ORIGINAL-URL:https://novaworks.org
X-WR-CALDESC:Events for NOVAworks
REFRESH-INTERVAL;VALUE=DURATION:PT1H
X-Robots-Tag:noindex
X-PUBLISHED-TTL:PT1H
BEGIN:VTIMEZONE
TZID:America/Los_Angeles
BEGIN:DAYLIGHT
TZOFFSETFROM:-0800
TZOFFSETTO:-0700
TZNAME:PDT
DTSTART:20250309T100000
END:DAYLIGHT
BEGIN:STANDARD
TZOFFSETFROM:-0700
TZOFFSETTO:-0800
TZNAME:PST
DTSTART:20251102T090000
END:STANDARD
BEGIN:DAYLIGHT
TZOFFSETFROM:-0800
TZOFFSETTO:-0700
TZNAME:PDT
DTSTART:20260308T100000
END:DAYLIGHT
BEGIN:STANDARD
TZOFFSETFROM:-0700
TZOFFSETTO:-0800
TZNAME:PST
DTSTART:20261101T090000
END:STANDARD
BEGIN:DAYLIGHT
TZOFFSETFROM:-0800
TZOFFSETTO:-0700
TZNAME:PDT
DTSTART:20270314T100000
END:DAYLIGHT
BEGIN:STANDARD
TZOFFSETFROM:-0700
TZOFFSETTO:-0800
TZNAME:PST
DTSTART:20271107T090000
END:STANDARD
END:VTIMEZONE
BEGIN:VEVENT
DTSTART;TZID=America/Los_Angeles:20260527T133000
DTEND;TZID=America/Los_Angeles:20260527T150000
DTSTAMP:20260422T144612
CREATED:20260420T070002Z
LAST-MODIFIED:20260416T204603Z
UID:5609-1779888600-1779894000@novaworks.org
SUMMARY:Identifying Target Companies (In Person - Sunnyvale)
DESCRIPTION:Learn the benefits of targeting companies. We will show you how to research companies and provide strategies for utilizing this information in your job search. \nRegistration for this in-person workshop will open Friday\, May 22 by 1 p.m.
URL:https://novaworks.org/event/identifying-target-companies-in-person-20260527/
CATEGORIES:In-Person,Job Search
ATTACH;FMTTYPE=image/webp:https://novaworks.org/wp-content/uploads/Identifying-Target-Companies-1.webp
END:VEVENT
END:VCALENDAR