BEGIN:VCALENDAR
VERSION:2.0
PRODID:-//NOVAworks - ECPv6.15.20//NONSGML v1.0//EN
CALSCALE:GREGORIAN
METHOD:PUBLISH
X-ORIGINAL-URL:https://novaworks.org
X-WR-CALDESC:Events for NOVAworks
REFRESH-INTERVAL;VALUE=DURATION:PT1H
X-Robots-Tag:noindex
X-PUBLISHED-TTL:PT1H
BEGIN:VTIMEZONE
TZID:America/Los_Angeles
BEGIN:DAYLIGHT
TZOFFSETFROM:-0800
TZOFFSETTO:-0700
TZNAME:PDT
DTSTART:20250309T100000
END:DAYLIGHT
BEGIN:STANDARD
TZOFFSETFROM:-0700
TZOFFSETTO:-0800
TZNAME:PST
DTSTART:20251102T090000
END:STANDARD
BEGIN:DAYLIGHT
TZOFFSETFROM:-0800
TZOFFSETTO:-0700
TZNAME:PDT
DTSTART:20260308T100000
END:DAYLIGHT
BEGIN:STANDARD
TZOFFSETFROM:-0700
TZOFFSETTO:-0800
TZNAME:PST
DTSTART:20261101T090000
END:STANDARD
BEGIN:DAYLIGHT
TZOFFSETFROM:-0800
TZOFFSETTO:-0700
TZNAME:PDT
DTSTART:20270314T100000
END:DAYLIGHT
BEGIN:STANDARD
TZOFFSETFROM:-0700
TZOFFSETTO:-0800
TZNAME:PST
DTSTART:20271107T090000
END:STANDARD
END:VTIMEZONE
BEGIN:VEVENT
DTSTART;TZID=America/Los_Angeles:20260422T133000
DTEND;TZID=America/Los_Angeles:20260422T150000
DTSTAMP:20260422T051400
CREATED:20260408T151845Z
LAST-MODIFIED:20260417T200101Z
UID:5206-1776864600-1776870000@novaworks.org
SUMMARY:LinkedIn: Power Your Job Search & Network (Zoom)
DESCRIPTION:Discover how to leverage LinkedIn to expand your professional network\, showcase your expertise\, and unlock job opportunities using advanced search tools to connect with people\, companies\, and industry groups. \nRegister at least 15 minutes before the start time of the workshop. \nRegister here: https://us02web.zoom.us/meeting/register/JnIUwFVJR2mPhxbNz0WElA
URL:https://novaworks.org/event/linkedin-power-your-job-search-network-zoom-20260422/
CATEGORIES:Job Search,Virtual (Live)
ATTACH;FMTTYPE=image/webp:https://novaworks.org/wp-content/uploads/LI-Power-Your-Job-Search-Network.webp
END:VEVENT
BEGIN:VEVENT
DTSTART;TZID=America/Los_Angeles:20260424T090000
DTEND;TZID=America/Los_Angeles:20260424T103000
DTSTAMP:20260422T051400
CREATED:20260408T150658Z
LAST-MODIFIED:20260417T200109Z
UID:5166-1777021200-1777026600@novaworks.org
SUMMARY:Targeting Government Jobs (Zoom)
DESCRIPTION:Is a government job right for you? In this workshop we will discuss government employment\, including aspects of the unique hiring process and offer tips on how to be a successful candidate. \nRegister at least 15 minutes before the start time of the workshop. \nRegister here: https://us02web.zoom.us/meeting/register/zjemMxvNS16Ouk0nlt64rw \n 
URL:https://novaworks.org/event/targeting-government-jobs-zoom-20260424/
CATEGORIES:Job Search,Virtual (Live)
ATTACH;FMTTYPE=image/webp:https://novaworks.org/wp-content/uploads/Targeting-Government-jobs-1.webp
END:VEVENT
BEGIN:VEVENT
DTSTART;TZID=America/Los_Angeles:20260428T133000
DTEND;TZID=America/Los_Angeles:20260428T150000
DTSTAMP:20260422T051400
CREATED:20260408T150321Z
LAST-MODIFIED:20260408T154255Z
UID:5157-1777383000-1777388400@novaworks.org
SUMMARY:Job Search Tips for the Mature Worker (In Person - Sunnyvale)
DESCRIPTION:Mature job seekers frequently have concerns that their age or years of experience may create obstacles in their job search. Learn how to age-neutralize your resume\, identify age-friendly employers\, and answer tough interview questions. \nRegistration for this in person workshop will open Friday\, April 24 by 1 p.m.
URL:https://novaworks.org/event/job-search-tips-for-the-mature-worker-in-person-20260428/
CATEGORIES:In-Person,Job Search
ATTACH;FMTTYPE=image/webp:https://novaworks.org/wp-content/uploads/Job-Search-Tips-for-the-Mature-Worker-1.webp
END:VEVENT
END:VCALENDAR