BEGIN:VCALENDAR
VERSION:2.0
PRODID:-//NOVAworks - ECPv6.15.20//NONSGML v1.0//EN
CALSCALE:GREGORIAN
METHOD:PUBLISH
X-ORIGINAL-URL:https://novaworks.org
X-WR-CALDESC:Events for NOVAworks
REFRESH-INTERVAL;VALUE=DURATION:PT1H
X-Robots-Tag:noindex
X-PUBLISHED-TTL:PT1H
BEGIN:VTIMEZONE
TZID:America/Los_Angeles
BEGIN:DAYLIGHT
TZOFFSETFROM:-0800
TZOFFSETTO:-0700
TZNAME:PDT
DTSTART:20250309T100000
END:DAYLIGHT
BEGIN:STANDARD
TZOFFSETFROM:-0700
TZOFFSETTO:-0800
TZNAME:PST
DTSTART:20251102T090000
END:STANDARD
BEGIN:DAYLIGHT
TZOFFSETFROM:-0800
TZOFFSETTO:-0700
TZNAME:PDT
DTSTART:20260308T100000
END:DAYLIGHT
BEGIN:STANDARD
TZOFFSETFROM:-0700
TZOFFSETTO:-0800
TZNAME:PST
DTSTART:20261101T090000
END:STANDARD
BEGIN:DAYLIGHT
TZOFFSETFROM:-0800
TZOFFSETTO:-0700
TZNAME:PDT
DTSTART:20270314T100000
END:DAYLIGHT
BEGIN:STANDARD
TZOFFSETFROM:-0700
TZOFFSETTO:-0800
TZNAME:PST
DTSTART:20271107T090000
END:STANDARD
END:VTIMEZONE
BEGIN:VEVENT
DTSTART;TZID=America/Los_Angeles:20260421T133000
DTEND;TZID=America/Los_Angeles:20260421T150000
DTSTAMP:20260422T084656
CREATED:20260408T152033Z
LAST-MODIFIED:20260421T201518Z
UID:5214-1776778200-1776783600@novaworks.org
SUMMARY:Identifying Target Companies (Zoom)
DESCRIPTION:Learn the benefits of targeting companies. We will show you how to research companies and provide strategies for utilizing this information in your job search. \nRegister at least 15 minutes before the start time of the workshop. \nRegistration for this workshop is now closed.
URL:https://novaworks.org/event/identifying-target-companies-zoom-20260421/
CATEGORIES:Job Search,Virtual (Live)
ATTACH;FMTTYPE=image/webp:https://novaworks.org/wp-content/uploads/Identifying-Target-Companies-1.webp
END:VEVENT
BEGIN:VEVENT
DTSTART;TZID=America/Los_Angeles:20260420T133000
DTEND;TZID=America/Los_Angeles:20260420T150000
DTSTAMP:20260422T084656
CREATED:20260408T152245Z
LAST-MODIFIED:20260420T201505Z
UID:5219-1776691800-1776697200@novaworks.org
SUMMARY:Informational Meetings (Zoom)
DESCRIPTION:Build your confidence requesting and conducting informational meetings with people who have the advice\, information\, and referrals you need. \nRegister at least 15 minutes before the start time of the workshop. \nRegistration for this workshop is now closed.
URL:https://novaworks.org/event/informational-meetings-zoom-20260420/
CATEGORIES:Job Search,Virtual (Live)
ATTACH;FMTTYPE=image/webp:https://novaworks.org/wp-content/uploads/Information-Meetings.webp
END:VEVENT
BEGIN:VEVENT
DTSTART;TZID=America/Los_Angeles:20260417T133000
DTEND;TZID=America/Los_Angeles:20260417T150000
DTSTAMP:20260422T084656
CREATED:20260408T151955Z
LAST-MODIFIED:20260417T201534Z
UID:5212-1776432600-1776438000@novaworks.org
SUMMARY:Overcoming Employment Gaps (Zoom)
DESCRIPTION:Employment gaps do not need to be a barrier to employment. In this workshop\, we’ll discuss how to address gaps in job search and during interviews. The focus is on proactively demonstrating your value and capabilities. \nRegister at least 15 minutes before the start time of the workshop. \nRegistration for this workshop is now closed.
URL:https://novaworks.org/event/overcoming-employment-gaps-zoom-20260417/
CATEGORIES:Job Search,Virtual (Live)
ATTACH;FMTTYPE=image/webp:https://novaworks.org/wp-content/uploads/Overcoming-Employment-Gaps-1.webp
END:VEVENT
BEGIN:VEVENT
DTSTART;TZID=America/Los_Angeles:20260409T150000
DTEND;TZID=America/Los_Angeles:20260409T163000
DTSTAMP:20260422T084656
CREATED:20260408T145757Z
LAST-MODIFIED:20260409T214541Z
UID:5139-1775746800-1775752200@novaworks.org
SUMMARY:LinkedIn: Power Your Job Search & Network (Zoom)
DESCRIPTION:Discover how to leverage LinkedIn to expand your professional network\, showcase your expertise\, and unlock job opportunities using advanced search tools to connect with people\, companies\, and industry groups. \nRegister at least 15 minutes before the start time of the workshop. \nRegistration for this workshop is now closed.
URL:https://novaworks.org/event/linkedin-power-your-job-search-network-zoom-20260409/
CATEGORIES:Job Search,Virtual (Live)
ATTACH;FMTTYPE=image/webp:https://novaworks.org/wp-content/uploads/LI-Power-Your-Job-Search-Network.webp
END:VEVENT
BEGIN:VEVENT
DTSTART;TZID=America/Los_Angeles:20260406T103000
DTEND;TZID=America/Los_Angeles:20260406T120000
DTSTAMP:20260422T084656
CREATED:20260408T150136Z
LAST-MODIFIED:20260408T150136Z
UID:5123-1775471400-1775476800@novaworks.org
SUMMARY:Job Search Tips for the Mature Worker (Zoom)
DESCRIPTION:Mature job seekers frequently have concerns that their age or years of experience may create obstacles in their job search. Learn how to age-neutralize your resume\, identify age-friendly employers\, and answer tough interview questions. \nRegister at least 15 minutes before the start time of the workshop. \nRegistration for this workshop is now closed. \n 
URL:https://novaworks.org/event/job-search-tips-for-the-mature-worker-zoom-20260406/
CATEGORIES:Job Search,Virtual (Live)
ATTACH;FMTTYPE=image/webp:https://novaworks.org/wp-content/uploads/Job-Search-Tips-for-the-Mature-Worker-1.webp
END:VEVENT
BEGIN:VEVENT
DTSTART;TZID=America/Los_Angeles:20260403T090000
DTEND;TZID=America/Los_Angeles:20260403T103000
DTSTAMP:20260422T084656
CREATED:20260408T155813Z
LAST-MODIFIED:20260408T155813Z
UID:5253-1775206800-1775212200@novaworks.org
SUMMARY:Targeting Government Jobs (Zoom)
DESCRIPTION:Is a government job right for you? In this workshop we will discuss government employment\, including aspects of the unique hiring process and offer tips on how to be a successful candidate. \nRegister at least 15 minutes before the start of the workshop. \nRegistration for this workshop is now closed.
URL:https://novaworks.org/event/targeting-government-jobs-zoom-20260403/
CATEGORIES:Job Search,Virtual (Live)
ATTACH;FMTTYPE=image/webp:https://novaworks.org/wp-content/uploads/Targeting-Government-jobs-1.webp
END:VEVENT
END:VCALENDAR