BEGIN:VCALENDAR
VERSION:2.0
PRODID:-//NOVAworks - ECPv6.15.20//NONSGML v1.0//EN
CALSCALE:GREGORIAN
METHOD:PUBLISH
X-ORIGINAL-URL:https://novaworks.org
X-WR-CALDESC:Events for NOVAworks
REFRESH-INTERVAL;VALUE=DURATION:PT1H
X-Robots-Tag:noindex
X-PUBLISHED-TTL:PT1H
BEGIN:VTIMEZONE
TZID:America/Los_Angeles
BEGIN:DAYLIGHT
TZOFFSETFROM:-0800
TZOFFSETTO:-0700
TZNAME:PDT
DTSTART:20250309T100000
END:DAYLIGHT
BEGIN:STANDARD
TZOFFSETFROM:-0700
TZOFFSETTO:-0800
TZNAME:PST
DTSTART:20251102T090000
END:STANDARD
BEGIN:DAYLIGHT
TZOFFSETFROM:-0800
TZOFFSETTO:-0700
TZNAME:PDT
DTSTART:20260308T100000
END:DAYLIGHT
BEGIN:STANDARD
TZOFFSETFROM:-0700
TZOFFSETTO:-0800
TZNAME:PST
DTSTART:20261101T090000
END:STANDARD
BEGIN:DAYLIGHT
TZOFFSETFROM:-0800
TZOFFSETTO:-0700
TZNAME:PDT
DTSTART:20270314T100000
END:DAYLIGHT
BEGIN:STANDARD
TZOFFSETFROM:-0700
TZOFFSETTO:-0800
TZNAME:PST
DTSTART:20271107T090000
END:STANDARD
END:VTIMEZONE
BEGIN:VEVENT
DTSTART;TZID=America/Los_Angeles:20260420T133000
DTEND;TZID=America/Los_Angeles:20260420T150000
DTSTAMP:20260422T065815
CREATED:20260408T152245Z
LAST-MODIFIED:20260420T201505Z
UID:5219-1776691800-1776697200@novaworks.org
SUMMARY:Informational Meetings (Zoom)
DESCRIPTION:Build your confidence requesting and conducting informational meetings with people who have the advice\, information\, and referrals you need. \nRegister at least 15 minutes before the start time of the workshop. \nRegistration for this workshop is now closed.
URL:https://novaworks.org/event/informational-meetings-zoom-20260420/
CATEGORIES:Job Search,Virtual (Live)
ATTACH;FMTTYPE=image/webp:https://novaworks.org/wp-content/uploads/Information-Meetings.webp
END:VEVENT
END:VCALENDAR