BEGIN:VCALENDAR
VERSION:2.0
PRODID:-//NOVAworks - ECPv6.15.20//NONSGML v1.0//EN
CALSCALE:GREGORIAN
METHOD:PUBLISH
X-ORIGINAL-URL:https://novaworks.org
X-WR-CALDESC:Events for NOVAworks
REFRESH-INTERVAL;VALUE=DURATION:PT1H
X-Robots-Tag:noindex
X-PUBLISHED-TTL:PT1H
BEGIN:VTIMEZONE
TZID:America/Los_Angeles
BEGIN:DAYLIGHT
TZOFFSETFROM:-0800
TZOFFSETTO:-0700
TZNAME:PDT
DTSTART:20250309T100000
END:DAYLIGHT
BEGIN:STANDARD
TZOFFSETFROM:-0700
TZOFFSETTO:-0800
TZNAME:PST
DTSTART:20251102T090000
END:STANDARD
BEGIN:DAYLIGHT
TZOFFSETFROM:-0800
TZOFFSETTO:-0700
TZNAME:PDT
DTSTART:20260308T100000
END:DAYLIGHT
BEGIN:STANDARD
TZOFFSETFROM:-0700
TZOFFSETTO:-0800
TZNAME:PST
DTSTART:20261101T090000
END:STANDARD
BEGIN:DAYLIGHT
TZOFFSETFROM:-0800
TZOFFSETTO:-0700
TZNAME:PDT
DTSTART:20270314T100000
END:DAYLIGHT
BEGIN:STANDARD
TZOFFSETFROM:-0700
TZOFFSETTO:-0800
TZNAME:PST
DTSTART:20271107T090000
END:STANDARD
END:VTIMEZONE
BEGIN:VEVENT
DTSTART;TZID=America/Los_Angeles:20260422T103000
DTEND;TZID=America/Los_Angeles:20260422T120000
DTSTAMP:20260422T050611
CREATED:20260408T153747Z
LAST-MODIFIED:20260417T200059Z
UID:5225-1776853800-1776859200@novaworks.org
SUMMARY:Positivity (In Person - Sunnyvale)
DESCRIPTION:The job-search process is full of ups and downs. We will review techniques and tools that will help you reframe negative thoughts so that you can remain positive and optimistic. \nRegister at least 1 hour before the start of the workshop. \nRegister here: https://forms.gle/NMDhcfdWUZbNcA2n9 \nWalk-ins are welcome (for active members) to join the meeting.\n\nPlease show up 15 mins. before the start time. Customers that arrive 5 mins. after the start time\, will not be allowed to join the session.
URL:https://novaworks.org/event/positivity-in-person-20260422/
CATEGORIES:Focus,In-Person
ATTACH;FMTTYPE=image/webp:https://novaworks.org/wp-content/uploads/Positivity.webp
END:VEVENT
BEGIN:VEVENT
DTSTART;TZID=America/Los_Angeles:20260428T133000
DTEND;TZID=America/Los_Angeles:20260428T150000
DTSTAMP:20260422T050611
CREATED:20260408T150321Z
LAST-MODIFIED:20260408T154255Z
UID:5157-1777383000-1777388400@novaworks.org
SUMMARY:Job Search Tips for the Mature Worker (In Person - Sunnyvale)
DESCRIPTION:Mature job seekers frequently have concerns that their age or years of experience may create obstacles in their job search. Learn how to age-neutralize your resume\, identify age-friendly employers\, and answer tough interview questions. \nRegistration for this in person workshop will open Friday\, April 24 by 1 p.m.
URL:https://novaworks.org/event/job-search-tips-for-the-mature-worker-in-person-20260428/
CATEGORIES:In-Person,Job Search
ATTACH;FMTTYPE=image/webp:https://novaworks.org/wp-content/uploads/Job-Search-Tips-for-the-Mature-Worker-1.webp
END:VEVENT
BEGIN:VEVENT
DTSTART;TZID=America/Los_Angeles:20260430T153000
DTEND;TZID=America/Los_Angeles:20260430T170000
DTSTAMP:20260422T050611
CREATED:20260408T145758Z
LAST-MODIFIED:20260416T204950Z
UID:5136-1777563000-1777568400@novaworks.org
SUMMARY:Connections Mixer (In Person - Sunnyvale)
DESCRIPTION:These networking events are designed to allow you to connect with job center members and alumni\, and with local employers through networking\, activities\, and opportunities to learn about active job openings. \nRegistration for this session will open Friday\, April 24 by 1 p.m. \nTopic: Earth Day – Invest in Our Planet
URL:https://novaworks.org/event/connections-mixer-in-person-20260430-2/
CATEGORIES:Connections,In-Person
ATTACH;FMTTYPE=image/png:https://novaworks.org/wp-content/uploads/Mixer-20260430-1.png
END:VEVENT
END:VCALENDAR