BEGIN:VCALENDAR
VERSION:2.0
PRODID:-//NOVAworks - ECPv6.15.20//NONSGML v1.0//EN
CALSCALE:GREGORIAN
METHOD:PUBLISH
X-WR-CALNAME:NOVAworks
X-ORIGINAL-URL:https://novaworks.org
X-WR-CALDESC:Events for NOVAworks
REFRESH-INTERVAL;VALUE=DURATION:PT1H
X-Robots-Tag:noindex
X-PUBLISHED-TTL:PT1H
BEGIN:VTIMEZONE
TZID:America/Los_Angeles
BEGIN:DAYLIGHT
TZOFFSETFROM:-0800
TZOFFSETTO:-0700
TZNAME:PDT
DTSTART:20250309T100000
END:DAYLIGHT
BEGIN:STANDARD
TZOFFSETFROM:-0700
TZOFFSETTO:-0800
TZNAME:PST
DTSTART:20251102T090000
END:STANDARD
BEGIN:DAYLIGHT
TZOFFSETFROM:-0800
TZOFFSETTO:-0700
TZNAME:PDT
DTSTART:20260308T100000
END:DAYLIGHT
BEGIN:STANDARD
TZOFFSETFROM:-0700
TZOFFSETTO:-0800
TZNAME:PST
DTSTART:20261101T090000
END:STANDARD
BEGIN:DAYLIGHT
TZOFFSETFROM:-0800
TZOFFSETTO:-0700
TZNAME:PDT
DTSTART:20270314T100000
END:DAYLIGHT
BEGIN:STANDARD
TZOFFSETFROM:-0700
TZOFFSETTO:-0800
TZNAME:PST
DTSTART:20271107T090000
END:STANDARD
END:VTIMEZONE
BEGIN:VEVENT
DTSTART;TZID=America/Los_Angeles:20260408T133000
DTEND;TZID=America/Los_Angeles:20260408T153000
DTSTAMP:20260422T085106
CREATED:20260408T144732Z
LAST-MODIFIED:20260408T193149Z
UID:5124-1775655000-1775662200@novaworks.org
SUMMARY:Contracting 101 (In Person - Sunnyvale)
DESCRIPTION:This workshop will highlight how the job market has shifted toward increased contract work and will assist you in navigating the world of contracting and position yourself for success. \nRegister at least 1 hour before the start of the workshop. \nRegistration for this workshop is now closed. \nWalk-ins are welcome (for active members) to join the meeting.\n\nPlease show up 15 mins. before the start time. Customers that arrive 5 mins. after the start time\, will not be allowed to join the session.
URL:https://novaworks.org/event/contracting-101-in-person-20260408/
CATEGORIES:Career Navigation,In-Person
ATTACH;FMTTYPE=image/webp:https://novaworks.org/wp-content/uploads/Contracting-101-1.webp
END:VEVENT
BEGIN:VEVENT
DTSTART;TZID=America/Los_Angeles:20260401T150000
DTEND;TZID=America/Los_Angeles:20260401T161500
DTSTAMP:20260422T085106
CREATED:20260408T154712Z
LAST-MODIFIED:20260408T154712Z
UID:5245-1775055600-1775060100@novaworks.org
SUMMARY:How to Customize a Resume (In Person - Sunnyvale)
DESCRIPTION:A generic resume rarely generates any interest. Learn how to customize a resume & cover letter to catch the attention of the employer and get the phone to ring. We’ll also discuss how to use AI tools\, as an assistant\, to help you customize. \nRegister at least 1 hour before the start of the workshop. \nRegistration for this workshop is now closed. \nWalk-ins are welcome (for active members) to join the meeting.\n\nPlease show up 15 mins. before the start time. Customers that arrive 5 mins. after the start time\, will not be allowed to join the session.
URL:https://novaworks.org/event/how-to-customize-a-resume-in-person-20260401/
CATEGORIES:In-Person,Resume
ATTACH;FMTTYPE=image/webp:https://novaworks.org/wp-content/uploads/How-to-Customize-a-Resume.webp
END:VEVENT
BEGIN:VEVENT
DTSTART;TZID=America/Los_Angeles:20260401T133000
DTEND;TZID=America/Los_Angeles:20260401T144500
DTSTAMP:20260422T085106
CREATED:20260408T154603Z
LAST-MODIFIED:20260408T154603Z
UID:5243-1775050200-1775054700@novaworks.org
SUMMARY:Create a Resume that Gets Results (In Person - Sunnyvale)
DESCRIPTION:Learn the key information to include on your resume\, how to lay out the information to tell your story\, and the right resume format based on your situation. \nRegister at least 1 hour before the start of the workshop. \nRegistration for this workshop is now closed. \nWalk-ins are welcome (for active members) to join the meeting.\n\nPlease show up 15 mins. before the start time. Customers that arrive 5 mins. after the start time\, will not be allowed to join the session.
URL:https://novaworks.org/event/create-a-resume-that-gets-results-in-person-20260401/
CATEGORIES:In-Person,Resume
ATTACH;FMTTYPE=image/webp:https://novaworks.org/wp-content/uploads/Create-a-Resume-that-Gets-Results.webp
END:VEVENT
END:VCALENDAR