BEGIN:VCALENDAR
VERSION:2.0
PRODID:-//NOVAworks - ECPv6.15.20//NONSGML v1.0//EN
CALSCALE:GREGORIAN
METHOD:PUBLISH
X-WR-CALNAME:NOVAworks
X-ORIGINAL-URL:https://novaworks.org
X-WR-CALDESC:Events for NOVAworks
REFRESH-INTERVAL;VALUE=DURATION:PT1H
X-Robots-Tag:noindex
X-PUBLISHED-TTL:PT1H
BEGIN:VTIMEZONE
TZID:America/Los_Angeles
BEGIN:DAYLIGHT
TZOFFSETFROM:-0800
TZOFFSETTO:-0700
TZNAME:PDT
DTSTART:20250309T100000
END:DAYLIGHT
BEGIN:STANDARD
TZOFFSETFROM:-0700
TZOFFSETTO:-0800
TZNAME:PST
DTSTART:20251102T090000
END:STANDARD
BEGIN:DAYLIGHT
TZOFFSETFROM:-0800
TZOFFSETTO:-0700
TZNAME:PDT
DTSTART:20260308T100000
END:DAYLIGHT
BEGIN:STANDARD
TZOFFSETFROM:-0700
TZOFFSETTO:-0800
TZNAME:PST
DTSTART:20261101T090000
END:STANDARD
BEGIN:DAYLIGHT
TZOFFSETFROM:-0800
TZOFFSETTO:-0700
TZNAME:PDT
DTSTART:20270314T100000
END:DAYLIGHT
BEGIN:STANDARD
TZOFFSETFROM:-0700
TZOFFSETTO:-0800
TZNAME:PST
DTSTART:20271107T090000
END:STANDARD
END:VTIMEZONE
BEGIN:VEVENT
DTSTART;TZID=America/Los_Angeles:20260414T133000
DTEND;TZID=America/Los_Angeles:20260414T143000
DTSTAMP:20260422T080129
CREATED:20260408T151422Z
LAST-MODIFIED:20260414T201539Z
UID:5188-1776173400-1776177000@novaworks.org
SUMMARY:Career Exploration (Zoom)
DESCRIPTION:Career exploration is an opportunity for you to examine your options and to make informed career decisions based upon current local labor market information and employer needs. \nRegister at least 15 minutes before the start time of the workshop. \nRegistration for this workshop is now closed.
URL:https://novaworks.org/event/career-exploration-zoom-20260414/
CATEGORIES:Focus,Virtual (Live)
ATTACH;FMTTYPE=image/webp:https://novaworks.org/wp-content/uploads/Career-Exploration.webp
END:VEVENT
BEGIN:VEVENT
DTSTART;TZID=America/Los_Angeles:20260410T133000
DTEND;TZID=America/Los_Angeles:20260410T153000
DTSTAMP:20260422T080129
CREATED:20260408T150027Z
LAST-MODIFIED:20260410T201526Z
UID:5149-1775827800-1775835000@novaworks.org
SUMMARY:Managing Change (Zoom)
DESCRIPTION:This interactive workshop will help you move through the stress and uncertainty created by job loss. Learn how to work through your emotions\, launch an effective job search\, and explore what’s next for you. \nRegister at least 15 minutes before the start time of the workshop. \nRegistration for this workshop is now closed.
URL:https://novaworks.org/event/managing-change-zoom-20260410/
CATEGORIES:Focus,Virtual (Live)
ATTACH;FMTTYPE=image/webp:https://novaworks.org/wp-content/uploads/Managing-Change.webp
END:VEVENT
BEGIN:VEVENT
DTSTART;TZID=America/Los_Angeles:20260408T100000
DTEND;TZID=America/Los_Angeles:20260408T120000
DTSTAMP:20260422T080129
CREATED:20260408T144930Z
LAST-MODIFIED:20260408T144930Z
UID:5128-1775642400-1775649600@novaworks.org
SUMMARY:Who Am I? (Zoom)
DESCRIPTION:This two-day workshop is a starting point for those interested in conducting career assessment. Participants will take assessments and participate in activities to define their skills\, interests\, and values\, and learn how to apply this information in all stages of career development. You need only register once for this two-day series\, but you must be able to attend the full 4 hours (2 hours each day). \nRefer to session 1 on April 7th for registration information.
URL:https://novaworks.org/event/who-am-i-zoom-20260408/
CATEGORIES:Focus,Virtual (Live)
ATTACH;FMTTYPE=image/webp:https://novaworks.org/wp-content/uploads/Who-Am-I.webp
END:VEVENT
BEGIN:VEVENT
DTSTART;TZID=America/Los_Angeles:20260407T100000
DTEND;TZID=America/Los_Angeles:20260407T120000
DTSTAMP:20260422T080129
CREATED:20260408T145012Z
LAST-MODIFIED:20260408T145012Z
UID:5131-1775556000-1775563200@novaworks.org
SUMMARY:Who Am I? (Zoom)
DESCRIPTION:This two-day workshop is a starting point for those interested in conducting career assessment. Participants will take assessments and participate in activities to define their skills\, interests\, and values\, and learn how to apply this information in all stages of career development. You need only register once for this two-day series\, but you must be able to attend the full 4 hours (2 hours each day). \nRegister at least 15 minutes before the start time of the workshop. \nRegistration for this workshop is now closed. \n 
URL:https://novaworks.org/event/who-am-i-zoom-20260407/
CATEGORIES:Focus,Virtual (Live)
ATTACH;FMTTYPE=image/webp:https://novaworks.org/wp-content/uploads/Who-Am-I.webp
END:VEVENT
END:VCALENDAR