BEGIN:VCALENDAR
VERSION:2.0
PRODID:-//NOVAworks - ECPv6.15.20//NONSGML v1.0//EN
CALSCALE:GREGORIAN
METHOD:PUBLISH
X-ORIGINAL-URL:https://novaworks.org
X-WR-CALDESC:Events for NOVAworks
REFRESH-INTERVAL;VALUE=DURATION:PT1H
X-Robots-Tag:noindex
X-PUBLISHED-TTL:PT1H
BEGIN:VTIMEZONE
TZID:America/Los_Angeles
BEGIN:DAYLIGHT
TZOFFSETFROM:-0800
TZOFFSETTO:-0700
TZNAME:PDT
DTSTART:20250309T100000
END:DAYLIGHT
BEGIN:STANDARD
TZOFFSETFROM:-0700
TZOFFSETTO:-0800
TZNAME:PST
DTSTART:20251102T090000
END:STANDARD
BEGIN:DAYLIGHT
TZOFFSETFROM:-0800
TZOFFSETTO:-0700
TZNAME:PDT
DTSTART:20260308T100000
END:DAYLIGHT
BEGIN:STANDARD
TZOFFSETFROM:-0700
TZOFFSETTO:-0800
TZNAME:PST
DTSTART:20261101T090000
END:STANDARD
BEGIN:DAYLIGHT
TZOFFSETFROM:-0800
TZOFFSETTO:-0700
TZNAME:PDT
DTSTART:20270314T100000
END:DAYLIGHT
BEGIN:STANDARD
TZOFFSETFROM:-0700
TZOFFSETTO:-0800
TZNAME:PST
DTSTART:20271107T090000
END:STANDARD
END:VTIMEZONE
BEGIN:VEVENT
DTSTART;TZID=America/Los_Angeles:20260423T100000
DTEND;TZID=America/Los_Angeles:20260423T120000
DTSTAMP:20260422T050611
CREATED:20260408T151647Z
LAST-MODIFIED:20260417T200103Z
UID:5199-1776938400-1776945600@novaworks.org
SUMMARY:Connections Meeting (Zoom)
DESCRIPTION:Join NOVAworks members and staff at these weekly sessions to network\, share successes\, ask for leads\, practice job-search skills\, and hear from knowledgeable guest speakers. \nRegister at least 15 minutes before the start time of the session. \nRegister here: https://us02web.zoom.us/meeting/register/KsJN-B7JS8GDGXWLMvymXw \nTopic: Community Led Innovation and Workforce Development \nPresented by: Qi Diaz
URL:https://novaworks.org/event/connections-meeting-zoom-20260423/
CATEGORIES:Connections,Virtual (Live)
ATTACH;FMTTYPE=image/png:https://novaworks.org/wp-content/uploads/Connections-Meeting-20260423.png
END:VEVENT
BEGIN:VEVENT
DTSTART;TZID=America/Los_Angeles:20260430T100000
DTEND;TZID=America/Los_Angeles:20260430T120000
DTSTAMP:20260422T050611
CREATED:20260408T144933Z
LAST-MODIFIED:20260408T150401Z
UID:5127-1777543200-1777550400@novaworks.org
SUMMARY:Connections Meeting (Zoom)
DESCRIPTION:Join NOVAworks members and staff at these weekly sessions to network\, share successes\, ask for leads\, practice job-search skills\, and hear from knowledgeable guest speakers. \nRegistration for this session will open Friday\, April 24 by 1 p.m.
URL:https://novaworks.org/event/connections-meeting-zoom-20260430/
CATEGORIES:Connections,Virtual (Live)
ATTACH;FMTTYPE=image/webp:https://novaworks.org/wp-content/uploads/Connections-No-Topic.webp
END:VEVENT
BEGIN:VEVENT
DTSTART;TZID=America/Los_Angeles:20260430T153000
DTEND;TZID=America/Los_Angeles:20260430T170000
DTSTAMP:20260422T050611
CREATED:20260408T145758Z
LAST-MODIFIED:20260416T204950Z
UID:5136-1777563000-1777568400@novaworks.org
SUMMARY:Connections Mixer (In Person - Sunnyvale)
DESCRIPTION:These networking events are designed to allow you to connect with job center members and alumni\, and with local employers through networking\, activities\, and opportunities to learn about active job openings. \nRegistration for this session will open Friday\, April 24 by 1 p.m. \nTopic: Earth Day – Invest in Our Planet
URL:https://novaworks.org/event/connections-mixer-in-person-20260430-2/
CATEGORIES:Connections,In-Person
ATTACH;FMTTYPE=image/png:https://novaworks.org/wp-content/uploads/Mixer-20260430-1.png
END:VEVENT
END:VCALENDAR