BEGIN:VCALENDAR
VERSION:2.0
PRODID:-//NOVAworks - ECPv6.15.20//NONSGML v1.0//EN
CALSCALE:GREGORIAN
METHOD:PUBLISH
X-ORIGINAL-URL:https://novaworks.org
X-WR-CALDESC:Events for NOVAworks
REFRESH-INTERVAL;VALUE=DURATION:PT1H
X-Robots-Tag:noindex
X-PUBLISHED-TTL:PT1H
BEGIN:VTIMEZONE
TZID:America/Los_Angeles
BEGIN:DAYLIGHT
TZOFFSETFROM:-0800
TZOFFSETTO:-0700
TZNAME:PDT
DTSTART:20250309T100000
END:DAYLIGHT
BEGIN:STANDARD
TZOFFSETFROM:-0700
TZOFFSETTO:-0800
TZNAME:PST
DTSTART:20251102T090000
END:STANDARD
BEGIN:DAYLIGHT
TZOFFSETFROM:-0800
TZOFFSETTO:-0700
TZNAME:PDT
DTSTART:20260308T100000
END:DAYLIGHT
BEGIN:STANDARD
TZOFFSETFROM:-0700
TZOFFSETTO:-0800
TZNAME:PST
DTSTART:20261101T090000
END:STANDARD
BEGIN:DAYLIGHT
TZOFFSETFROM:-0800
TZOFFSETTO:-0700
TZNAME:PDT
DTSTART:20270314T100000
END:DAYLIGHT
BEGIN:STANDARD
TZOFFSETFROM:-0700
TZOFFSETTO:-0800
TZNAME:PST
DTSTART:20271107T090000
END:STANDARD
END:VTIMEZONE
BEGIN:VEVENT
DTSTART;TZID=America/Los_Angeles:20260409T100000
DTEND;TZID=America/Los_Angeles:20260409T120000
DTSTAMP:20260422T063129
CREATED:20260408T145601Z
LAST-MODIFIED:20260409T164522Z
UID:5133-1775728800-1775736000@novaworks.org
SUMMARY:Connections Meeting (Zoom)
DESCRIPTION:Join NOVAworks members and staff at these weekly sessions to network\, share successes\, ask for leads\, practice job-search skills\, and hear from knowledgeable guest speakers. \nRegister at least 15 minutes before the start time of the session. \nRegistration for this session is now closed. \nTopic: Four Levels: Confidently Communicate Your Value \nPresented by: Mike Weyandt
URL:https://novaworks.org/event/connections-meeting-zoom-20260409/
CATEGORIES:Connections,Virtual (Live)
ATTACH;FMTTYPE=image/png:https://novaworks.org/wp-content/uploads/Connections-Meeting-20260409-1.png
END:VEVENT
END:VCALENDAR