BEGIN:VCALENDAR
VERSION:2.0
PRODID:-//NOVAworks - ECPv6.15.20//NONSGML v1.0//EN
CALSCALE:GREGORIAN
METHOD:PUBLISH
X-WR-CALNAME:NOVAworks
X-ORIGINAL-URL:https://novaworks.org
X-WR-CALDESC:Events for NOVAworks
REFRESH-INTERVAL;VALUE=DURATION:PT1H
X-Robots-Tag:noindex
X-PUBLISHED-TTL:PT1H
BEGIN:VTIMEZONE
TZID:America/Los_Angeles
BEGIN:DAYLIGHT
TZOFFSETFROM:-0800
TZOFFSETTO:-0700
TZNAME:PDT
DTSTART:20250309T100000
END:DAYLIGHT
BEGIN:STANDARD
TZOFFSETFROM:-0700
TZOFFSETTO:-0800
TZNAME:PST
DTSTART:20251102T090000
END:STANDARD
BEGIN:DAYLIGHT
TZOFFSETFROM:-0800
TZOFFSETTO:-0700
TZNAME:PDT
DTSTART:20260308T100000
END:DAYLIGHT
BEGIN:STANDARD
TZOFFSETFROM:-0700
TZOFFSETTO:-0800
TZNAME:PST
DTSTART:20261101T090000
END:STANDARD
BEGIN:DAYLIGHT
TZOFFSETFROM:-0800
TZOFFSETTO:-0700
TZNAME:PDT
DTSTART:20270314T100000
END:DAYLIGHT
BEGIN:STANDARD
TZOFFSETFROM:-0700
TZOFFSETTO:-0800
TZNAME:PST
DTSTART:20271107T090000
END:STANDARD
END:VTIMEZONE
BEGIN:VEVENT
DTSTART;TZID=America/Los_Angeles:20260423T133000
DTEND;TZID=America/Los_Angeles:20260423T153000
DTSTAMP:20260422T051652
CREATED:20260408T151026Z
LAST-MODIFIED:20260417T200105Z
UID:5177-1776951000-1776958200@novaworks.org
SUMMARY:Communication Essentials (Zoom)
DESCRIPTION:Communication Essentials features practical techniques\, interactive exercises\, and immediately useful tools in the areas of communication\, facilitation\, and collaboration. This workshop series will improve your confidence and increase your effectiveness in your next position. You need only register once for this two-day series\, but you must be able to attend the full 4 hours (2 hours per day). \nRegister at least 15 minutes before the start time of the workshop. \nRegister here: https://us02web.zoom.us/meeting/register/jSBjT5HuTlyiBR0QGt8ddw
URL:https://novaworks.org/event/communication-essential-zoom-20260423/
CATEGORIES:Career Navigation,Virtual (Live)
ATTACH;FMTTYPE=image/webp:https://novaworks.org/wp-content/uploads/Communication-Essentials-1.webp
END:VEVENT
BEGIN:VEVENT
DTSTART;TZID=America/Los_Angeles:20260424T110000
DTEND;TZID=America/Los_Angeles:20260424T120000
DTSTAMP:20260422T051652
CREATED:20260408T150744Z
LAST-MODIFIED:20260417T200110Z
UID:5168-1777028400-1777032000@novaworks.org
SUMMARY:Ask the Career Advisor (Zoom)
DESCRIPTION:Do you have a quick question for a career advisor? \nDo you have a time-sensitive issue to discuss? \nSign up for this small group (it won’t be private) to get some expert advice from a career advisor. You are welcome to leave early if your question gets answered or stay to learn from the questions of others. \nRegister at least 1 hour before the start time of the session. \nRegister here: https://forms.gle/ZKWpNwwdabP8ErnQA \n 
URL:https://novaworks.org/event/ask-the-career-advisor-zoom-20260424/
CATEGORIES:Career Navigation,Virtual (Live)
ATTACH;FMTTYPE=image/webp:https://novaworks.org/wp-content/uploads/Ask-the-Career-Advisor.webp
END:VEVENT
BEGIN:VEVENT
DTSTART;TZID=America/Los_Angeles:20260424T133000
DTEND;TZID=America/Los_Angeles:20260424T153000
DTSTAMP:20260422T051652
CREATED:20260408T150913Z
LAST-MODIFIED:20260408T154055Z
UID:5172-1777037400-1777044600@novaworks.org
SUMMARY:Communication Essentials (Zoom)
DESCRIPTION:Communication Essentials features practical techniques\, interactive exercises\, and immediately useful tools in the areas of communication\, facilitation\, and collaboration. This workshop series will improve your confidence and increase your effectiveness in your next position. You need only register once for this two-day series\, but you must be able to attend the full 4 hours (2 hours per day). \nRefer to session 1 on April 23rd for registration information.
URL:https://novaworks.org/event/communication-essentials-zoom-20260424/
CATEGORIES:Career Navigation,Virtual (Live)
ATTACH;FMTTYPE=image/webp:https://novaworks.org/wp-content/uploads/Communication-Essentials-1.webp
END:VEVENT
BEGIN:VEVENT
DTSTART;TZID=America/Los_Angeles:20260428T090000
DTEND;TZID=America/Los_Angeles:20260428T094500
DTSTAMP:20260422T051652
CREATED:20260408T150152Z
LAST-MODIFIED:20260408T154209Z
UID:5152-1777366800-1777369500@novaworks.org
SUMMARY:Training Scholarship Process (Zoom)
DESCRIPTION:Come and learn about NOVAworks Training Scholarship Process\, the requirements\, and if it’s right for you. \nYou must be fully enrolled at NOVAworks before taking this workshop. \nRegistration for this workshop will open Friday\, April 24 by 1 p.m.
URL:https://novaworks.org/event/training-scholarship-process-zoom-20260428/
CATEGORIES:Career Navigation,Virtual (Live)
ATTACH;FMTTYPE=image/webp:https://novaworks.org/wp-content/uploads/Training-Scholarship-Process.webp
END:VEVENT
END:VCALENDAR