BEGIN:VCALENDAR
VERSION:2.0
PRODID:-//NOVAworks - ECPv6.15.20//NONSGML v1.0//EN
CALSCALE:GREGORIAN
METHOD:PUBLISH
X-WR-CALNAME:NOVAworks
X-ORIGINAL-URL:https://novaworks.org
X-WR-CALDESC:Events for NOVAworks
REFRESH-INTERVAL;VALUE=DURATION:PT1H
X-Robots-Tag:noindex
X-PUBLISHED-TTL:PT1H
BEGIN:VTIMEZONE
TZID:America/Los_Angeles
BEGIN:DAYLIGHT
TZOFFSETFROM:-0800
TZOFFSETTO:-0700
TZNAME:PDT
DTSTART:20250309T100000
END:DAYLIGHT
BEGIN:STANDARD
TZOFFSETFROM:-0700
TZOFFSETTO:-0800
TZNAME:PST
DTSTART:20251102T090000
END:STANDARD
BEGIN:DAYLIGHT
TZOFFSETFROM:-0800
TZOFFSETTO:-0700
TZNAME:PDT
DTSTART:20260308T100000
END:DAYLIGHT
BEGIN:STANDARD
TZOFFSETFROM:-0700
TZOFFSETTO:-0800
TZNAME:PST
DTSTART:20261101T090000
END:STANDARD
BEGIN:DAYLIGHT
TZOFFSETFROM:-0800
TZOFFSETTO:-0700
TZNAME:PDT
DTSTART:20270314T100000
END:DAYLIGHT
BEGIN:STANDARD
TZOFFSETFROM:-0700
TZOFFSETTO:-0800
TZNAME:PST
DTSTART:20271107T090000
END:STANDARD
END:VTIMEZONE
BEGIN:VEVENT
DTSTART;TZID=America/Los_Angeles:20260417T110000
DTEND;TZID=America/Los_Angeles:20260417T120000
DTSTAMP:20260422T085002
CREATED:20260408T151901Z
LAST-MODIFIED:20260417T170054Z
UID:5204-1776423600-1776427200@novaworks.org
SUMMARY:Ask the Career Advisor (Zoom)
DESCRIPTION:Do you have a quick question for a career advisor? \nDo you have a time-sensitive issue to discuss? \nSign up for this small group (it won’t be private) to get some expert advice from a career advisor. You are welcome to leave early if your question gets answered or stay to learn from the questions of others. \nRegister at least 1 hour before the start time of the session. \nRegistration for this session is now closed. \n 
URL:https://novaworks.org/event/ask-the-career-advisor-zoom-20260417/
CATEGORIES:Career Navigation,Virtual (Live)
ATTACH;FMTTYPE=image/webp:https://novaworks.org/wp-content/uploads/Ask-the-Career-Advisor.webp
END:VEVENT
BEGIN:VEVENT
DTSTART;TZID=America/Los_Angeles:20260414T110000
DTEND;TZID=America/Los_Angeles:20260414T114500
DTSTAMP:20260422T085002
CREATED:20260408T151309Z
LAST-MODIFIED:20260414T174514Z
UID:5185-1776164400-1776167100@novaworks.org
SUMMARY:Training Scholarship Process (Zoom)
DESCRIPTION:Come and learn about NOVAworks Training Scholarship Process\, the requirements\, and if it’s right for you. \nYou must be fully enrolled at NOVAworks before taking this workshop. \nRegister at least 15 minutes before the start time of the workshop. \nRegistration for this workshop is now closed.
URL:https://novaworks.org/event/training-scholarship-process-zoom-20260414/
CATEGORIES:Career Navigation,Virtual (Live)
ATTACH;FMTTYPE=image/webp:https://novaworks.org/wp-content/uploads/Training-Scholarship-Process.webp
END:VEVENT
BEGIN:VEVENT
DTSTART;TZID=America/Los_Angeles:20260410T110000
DTEND;TZID=America/Los_Angeles:20260410T120000
DTSTAMP:20260422T085002
CREATED:20260408T145909Z
LAST-MODIFIED:20260410T170050Z
UID:5142-1775818800-1775822400@novaworks.org
SUMMARY:Ask the Career Advisor (Zoom)
DESCRIPTION:Do you have a quick question for a career advisor? \nDo you have a time-sensitive issue to discuss? \nSign up for this small group (it won’t be private) to get some expert advice from a career advisor. You are welcome to leave early if your question gets answered or stay to learn from the questions of others. \nRegister at least 1 hour before the start time of the session. \nRegistration for this session is now closed.
URL:https://novaworks.org/event/ask-the-career-advisor-zoom-20260410/
CATEGORIES:Career Navigation,Virtual (Live)
ATTACH;FMTTYPE=image/webp:https://novaworks.org/wp-content/uploads/Ask-the-Career-Advisor.webp
END:VEVENT
BEGIN:VEVENT
DTSTART;TZID=America/Los_Angeles:20260408T133000
DTEND;TZID=America/Los_Angeles:20260408T153000
DTSTAMP:20260422T085002
CREATED:20260408T144732Z
LAST-MODIFIED:20260408T193149Z
UID:5124-1775655000-1775662200@novaworks.org
SUMMARY:Contracting 101 (In Person - Sunnyvale)
DESCRIPTION:This workshop will highlight how the job market has shifted toward increased contract work and will assist you in navigating the world of contracting and position yourself for success. \nRegister at least 1 hour before the start of the workshop. \nRegistration for this workshop is now closed. \nWalk-ins are welcome (for active members) to join the meeting.\n\nPlease show up 15 mins. before the start time. Customers that arrive 5 mins. after the start time\, will not be allowed to join the session.
URL:https://novaworks.org/event/contracting-101-in-person-20260408/
CATEGORIES:Career Navigation,In-Person
ATTACH;FMTTYPE=image/webp:https://novaworks.org/wp-content/uploads/Contracting-101-1.webp
END:VEVENT
BEGIN:VEVENT
DTSTART;TZID=America/Los_Angeles:20260403T110000
DTEND;TZID=America/Los_Angeles:20260403T120000
DTSTAMP:20260422T085002
CREATED:20260408T155857Z
LAST-MODIFIED:20260408T155857Z
UID:5255-1775214000-1775217600@novaworks.org
SUMMARY:Ask the Career Advisor (Zoom)
DESCRIPTION:Do you have a quick question for a career advisor? \nDo you have a time-sensitive issue to discuss? \nSign up for this small group (it won’t be private) to get some expert advice from a career advisor. You are welcome to leave early if your question gets answered or stay to learn from the questions of others. \nRegister at least 1 hour before the start time of the session. \nRegistration for this session is now closed.
URL:https://novaworks.org/event/ask-the-career-advisor-zoom-20260403/
CATEGORIES:Career Navigation,Virtual (Live)
ATTACH;FMTTYPE=image/webp:https://novaworks.org/wp-content/uploads/Ask-the-Career-Advisor.webp
END:VEVENT
END:VCALENDAR