BEGIN:VCALENDAR
VERSION:2.0
PRODID:-//NOVAworks - ECPv6.15.20//NONSGML v1.0//EN
CALSCALE:GREGORIAN
METHOD:PUBLISH
X-WR-CALNAME:NOVAworks
X-ORIGINAL-URL:https://novaworks.org
X-WR-CALDESC:Events for NOVAworks
REFRESH-INTERVAL;VALUE=DURATION:PT1H
X-Robots-Tag:noindex
X-PUBLISHED-TTL:PT1H
BEGIN:VTIMEZONE
TZID:America/Los_Angeles
BEGIN:DAYLIGHT
TZOFFSETFROM:-0800
TZOFFSETTO:-0700
TZNAME:PDT
DTSTART:20250309T100000
END:DAYLIGHT
BEGIN:STANDARD
TZOFFSETFROM:-0700
TZOFFSETTO:-0800
TZNAME:PST
DTSTART:20251102T090000
END:STANDARD
BEGIN:DAYLIGHT
TZOFFSETFROM:-0800
TZOFFSETTO:-0700
TZNAME:PDT
DTSTART:20260308T100000
END:DAYLIGHT
BEGIN:STANDARD
TZOFFSETFROM:-0700
TZOFFSETTO:-0800
TZNAME:PST
DTSTART:20261101T090000
END:STANDARD
BEGIN:DAYLIGHT
TZOFFSETFROM:-0800
TZOFFSETTO:-0700
TZNAME:PDT
DTSTART:20270314T100000
END:DAYLIGHT
BEGIN:STANDARD
TZOFFSETFROM:-0700
TZOFFSETTO:-0800
TZNAME:PST
DTSTART:20271107T090000
END:STANDARD
END:VTIMEZONE
BEGIN:VEVENT
DTSTART;TZID=America/Los_Angeles:20260501T100000
DTEND;TZID=America/Los_Angeles:20260501T120000
DTSTAMP:20260422T062448
CREATED:20260420T070025Z
LAST-MODIFIED:20260416T180834Z
UID:5526-1777629600-1777636800@novaworks.org
SUMMARY:Contracting 101 (Zoom)
DESCRIPTION:This workshop will highlight how the job market has shifted toward increased contract work and will assist you in navigating the world of contracting and position yourself for success. \nRegistration for this workshop will open Friday\, April 24 by 1 p.m.
URL:https://novaworks.org/event/contracting-101-zoom-20260501/
CATEGORIES:Career Navigation,Virtual (Live)
ATTACH;FMTTYPE=image/webp:https://novaworks.org/wp-content/uploads/Contracting-101-1.webp
END:VEVENT
BEGIN:VEVENT
DTSTART;TZID=America/Los_Angeles:20260501T133000
DTEND;TZID=America/Los_Angeles:20260501T143000
DTSTAMP:20260422T062448
CREATED:20260420T070005Z
LAST-MODIFIED:20260416T180943Z
UID:5528-1777642200-1777645800@novaworks.org
SUMMARY:Ask the Career Advisor (Zoom)
DESCRIPTION:Do you have a quick question for a career advisor? \nDo you have a time-sensitive issue to discuss? \nSign up for this small group (it won’t be private) to get some expert advice from a career advisor. You are welcome to leave early if your question gets answered or stay to learn from the questions of others. \nRegistration for this session will open Friday\, April 24 by 1 p.m. \n 
URL:https://novaworks.org/event/ask-the-career-advisor-zoom-20260501/
CATEGORIES:Career Navigation,Virtual (Live)
ATTACH;FMTTYPE=image/webp:https://novaworks.org/wp-content/uploads/Ask-the-Career-Advisor.webp
END:VEVENT
END:VCALENDAR