BEGIN:VCALENDAR
VERSION:2.0
PRODID:-//NOVAworks - ECPv6.15.20//NONSGML v1.0//EN
CALSCALE:GREGORIAN
METHOD:PUBLISH
X-WR-CALNAME:NOVAworks
X-ORIGINAL-URL:https://novaworks.org
X-WR-CALDESC:Events for NOVAworks
REFRESH-INTERVAL;VALUE=DURATION:PT1H
X-Robots-Tag:noindex
X-PUBLISHED-TTL:PT1H
BEGIN:VTIMEZONE
TZID:America/Los_Angeles
BEGIN:DAYLIGHT
TZOFFSETFROM:-0800
TZOFFSETTO:-0700
TZNAME:PDT
DTSTART:20250309T100000
END:DAYLIGHT
BEGIN:STANDARD
TZOFFSETFROM:-0700
TZOFFSETTO:-0800
TZNAME:PST
DTSTART:20251102T090000
END:STANDARD
BEGIN:DAYLIGHT
TZOFFSETFROM:-0800
TZOFFSETTO:-0700
TZNAME:PDT
DTSTART:20260308T100000
END:DAYLIGHT
BEGIN:STANDARD
TZOFFSETFROM:-0700
TZOFFSETTO:-0800
TZNAME:PST
DTSTART:20261101T090000
END:STANDARD
BEGIN:DAYLIGHT
TZOFFSETFROM:-0800
TZOFFSETTO:-0700
TZNAME:PDT
DTSTART:20270314T100000
END:DAYLIGHT
BEGIN:STANDARD
TZOFFSETFROM:-0700
TZOFFSETTO:-0800
TZNAME:PST
DTSTART:20271107T090000
END:STANDARD
END:VTIMEZONE
BEGIN:VEVENT
DTSTART;TZID=America/Los_Angeles:20260427T103000
DTEND;TZID=America/Los_Angeles:20260427T120000
DTSTAMP:20260422T062534
CREATED:20260408T150448Z
LAST-MODIFIED:20260408T154127Z
UID:5160-1777285800-1777291200@novaworks.org
SUMMARY:LinkedIn: Developing Your Profile (Zoom)
DESCRIPTION:Learn the basics of LinkedIn\, including how to set up an effective profile and manage your account settings. \nRegistration for this workshop will open Friday\, April 24 by 1 p.m. \n 
URL:https://novaworks.org/event/linkedin-developing-your-profile-zoom-20260427/
CATEGORIES:Resume,Virtual (Live)
ATTACH;FMTTYPE=image/webp:https://novaworks.org/wp-content/uploads/LI_Developoing-Your-Profile.webp
END:VEVENT
BEGIN:VEVENT
DTSTART;TZID=America/Los_Angeles:20260427T133000
DTEND;TZID=America/Los_Angeles:20260427T150000
DTSTAMP:20260422T062534
CREATED:20260408T150546Z
LAST-MODIFIED:20260408T154141Z
UID:5163-1777296600-1777302000@novaworks.org
SUMMARY:Coding Whiteboarding (Zoom)
DESCRIPTION:Whiteboard tests are an integral part of technical interviews. This workshop provides a place to practice coding problems and receive feedback from your peers. \nRegistration for this workshop will open Friday\, April 24 by 1 p.m.
URL:https://novaworks.org/event/coding-whiteboarding-zoom-20260427/
CATEGORIES:Interview,Virtual (Live)
ATTACH;FMTTYPE=image/webp:https://novaworks.org/wp-content/uploads/Coding-Whiteboard-1.webp
END:VEVENT
END:VCALENDAR